	

BEGIN:VCALENDAR
VERSION:2.0
PRODID:-//Symposion Lindabrunn - ECPv6.15.20//NONSGML v1.0//EN
CALSCALE:GREGORIAN
METHOD:PUBLISH
X-WR-CALNAME:Symposion Lindabrunn
X-ORIGINAL-URL:https://symposion-lindabrunn.at/?lang=en
X-WR-CALDESC:Events for Symposion Lindabrunn
REFRESH-INTERVAL;VALUE=DURATION:PT1H
X-Robots-Tag:noindex
X-PUBLISHED-TTL:PT1H
BEGIN:VTIMEZONE
TZID:Europe/Vienna
BEGIN:DAYLIGHT
TZOFFSETFROM:+0100
TZOFFSETTO:+0200
TZNAME:CEST
DTSTART:20230326T010000
END:DAYLIGHT
BEGIN:STANDARD
TZOFFSETFROM:+0200
TZOFFSETTO:+0100
TZNAME:CET
DTSTART:20231029T010000
END:STANDARD
BEGIN:DAYLIGHT
TZOFFSETFROM:+0100
TZOFFSETTO:+0200
TZNAME:CEST
DTSTART:20240331T010000
END:DAYLIGHT
BEGIN:STANDARD
TZOFFSETFROM:+0200
TZOFFSETTO:+0100
TZNAME:CET
DTSTART:20241027T010000
END:STANDARD
BEGIN:DAYLIGHT
TZOFFSETFROM:+0100
TZOFFSETTO:+0200
TZNAME:CEST
DTSTART:20250330T010000
END:DAYLIGHT
BEGIN:STANDARD
TZOFFSETFROM:+0200
TZOFFSETTO:+0100
TZNAME:CET
DTSTART:20251026T010000
END:STANDARD
END:VTIMEZONE
BEGIN:VTIMEZONE
TZID:UTC
BEGIN:STANDARD
TZOFFSETFROM:+0000
TZOFFSETTO:+0000
TZNAME:UTC
DTSTART:20230101T000000
END:STANDARD
END:VTIMEZONE
BEGIN:VEVENT
DTSTART;TZID=Europe/Vienna:20240927T160000
DTEND;TZID=Europe/Vienna:20241020T170000
DTSTAMP:20260420T150827
CREATED:20240322T194718Z
LAST-MODIFIED:20240908T061759Z
UID:10000038-1727452800-1729443600@symposion-lindabrunn.at
SUMMARY:Member exhibition
DESCRIPTION:Member´s exhibition of  Verein Symposion Lindabrunn outdoor and indoor in the exhibition space. \nWith: \nFX + Metafunk\nChristian Kvasnicka\nLanzmaier + Zißler + Kohlweis\nKorinna Lindinger\nVerena Mayrhofer\nWendelin Munter\nPetra Mühlmann-Hatzl\nnoid+ Caddy + Flunger\nLeo Schatzl\nChristine Schörkhuber –\nMalin Walleser\nGabriele Wagner \nPerformance:\nLeonie Spitzer \n 
URL:https://symposion-lindabrunn.at/event/take-root/?lang=en
LOCATION:Symposion Lindabrunn\, Steinbruchstraße 25\, Enzesfeld-Lindabrunn\, 2551
CATEGORIES:production,public
ATTACH;FMTTYPE=image/jpeg:https://symposion-lindabrunn.at/wp-content/uploads/2024/03/vsl05_socialmedia_ew_230904.jpg
END:VEVENT
BEGIN:VEVENT
DTSTART;TZID=UTC:20241019T140000
DTEND;TZID=UTC:20241020T170000
DTSTAMP:20260420T150827
CREATED:20240206T193409Z
LAST-MODIFIED:20241013T183134Z
UID:10000013-1729346400-1729443600@symposion-lindabrunn.at
SUMMARY:Fazit 24
DESCRIPTION:Sa\,19.10.: Exhibition Open\nSo\, 20.10.  15:00 Finissage with Artist talk\,  Performance & Chill out with Guests\nThe exhibition provides insights into the diverse work of the people associated with the Symposion. Stone sculpture and fine art\, textile works\,kinetic art\, sound installations and video from different generations of the association’s history are on display.Also taking part are: \nFX + Metafunk\, Christian Kvasnicka\, Lanzmaier + Zißler + Kohlweis\,Korinna Lindinger\, Verena Mayrhofer\, Wendelin Munter\, Petra Mühlmann-Hatzl\, noid+ Caddy + Flunger\, Leo Schatzl\, Christine Schörkhuber\, Malin Walleser\, Gabriele Wagner \nPerformance:Leonie Spitzer
URL:https://symposion-lindabrunn.at/event/fazit-24/?lang=en
LOCATION:Symposion Lindabrunn\, Steinbruchstraße 25\, Enzesfeld-Lindabrunn\, 2551
CATEGORIES:public
END:VEVENT
END:VCALENDAR