	

BEGIN:VCALENDAR
VERSION:2.0
PRODID:-//Symposion Lindabrunn - ECPv6.15.20//NONSGML v1.0//EN
CALSCALE:GREGORIAN
METHOD:PUBLISH
X-ORIGINAL-URL:https://symposion-lindabrunn.at/?lang=en
X-WR-CALDESC:Events for Symposion Lindabrunn
REFRESH-INTERVAL;VALUE=DURATION:PT1H
X-Robots-Tag:noindex
X-PUBLISHED-TTL:PT1H
BEGIN:VTIMEZONE
TZID:UTC
BEGIN:STANDARD
TZOFFSETFROM:+0000
TZOFFSETTO:+0000
TZNAME:UTC
DTSTART:20230101T000000
END:STANDARD
END:VTIMEZONE
BEGIN:VEVENT
DTSTART;TZID=UTC:20240421T150000
DTEND;TZID=UTC:20240421T170000
DTSTAMP:20260424T165951
CREATED:20240206T184628Z
LAST-MODIFIED:20240327T092503Z
UID:10000016-1713711600-1713718800@symposion-lindabrunn.at
SUMMARY:Curated Literature Walk
DESCRIPTION:Author and literary critic Beatrice Simonsen is curating a walk between reading and performance for the fourth time. Contemporary writers refer to the sculptures on site in and with their texts. The interweaving of sculpture and literature was already practiced by Mathias Hietz and Alois Vogel in the 1970s. El Awadalla\, David Bröderbauer and Gabriele Petricek will develop site-specific texts for the performative\, interdisciplinary event format. \nReadings / performances by \nGabriele Petricek – Bridge (1979 Wall) \nThe purpose of interruption is to continue \nEl Awadalla – Landscape Carpet (1977)\, Gerhard Class (1979) \nThe dwarf with the silver ribs \nDavid Bröderbauer – Doru Covrig (1979) \nHalf the world \nBeatrice Simonsen – Rock formation (1976) \nIn the river \nWith the support of the Grazer Autorinnen Autorenversammlung \nModeration\, guided tour of the artworks: Korinna Lindinger \n 
URL:https://symposion-lindabrunn.at/event/literaturspaziergang/?lang=en
LOCATION:Symposion Lindabrunn\, Steinbruchstraße 25\, Enzesfeld-Lindabrunn\, 2551
CATEGORIES:public
ATTACH;FMTTYPE=image/jpeg:https://symposion-lindabrunn.at/wp-content/uploads/2024/02/IMG_20230423_161951Literaturspaziergang23_c_ArnoldHaberl-scaled-e1710097216725.jpg
END:VEVENT
END:VCALENDAR