	

BEGIN:VCALENDAR
VERSION:2.0
PRODID:-//Symposion Lindabrunn - ECPv6.15.20//NONSGML v1.0//EN
CALSCALE:GREGORIAN
METHOD:PUBLISH
X-WR-CALNAME:Symposion Lindabrunn
X-ORIGINAL-URL:https://symposion-lindabrunn.at/?lang=en
X-WR-CALDESC:Events for Symposion Lindabrunn
REFRESH-INTERVAL;VALUE=DURATION:PT1H
X-Robots-Tag:noindex
X-PUBLISHED-TTL:PT1H
BEGIN:VTIMEZONE
TZID:Europe/Vienna
BEGIN:DAYLIGHT
TZOFFSETFROM:+0100
TZOFFSETTO:+0200
TZNAME:CEST
DTSTART:20240331T010000
END:DAYLIGHT
BEGIN:STANDARD
TZOFFSETFROM:+0200
TZOFFSETTO:+0100
TZNAME:CET
DTSTART:20241027T010000
END:STANDARD
BEGIN:DAYLIGHT
TZOFFSETFROM:+0100
TZOFFSETTO:+0200
TZNAME:CEST
DTSTART:20250330T010000
END:DAYLIGHT
BEGIN:STANDARD
TZOFFSETFROM:+0200
TZOFFSETTO:+0100
TZNAME:CET
DTSTART:20251026T010000
END:STANDARD
BEGIN:DAYLIGHT
TZOFFSETFROM:+0100
TZOFFSETTO:+0200
TZNAME:CEST
DTSTART:20260329T010000
END:DAYLIGHT
BEGIN:STANDARD
TZOFFSETFROM:+0200
TZOFFSETTO:+0100
TZNAME:CET
DTSTART:20261025T010000
END:STANDARD
BEGIN:DAYLIGHT
TZOFFSETFROM:+0100
TZOFFSETTO:+0200
TZNAME:CEST
DTSTART:20270328T010000
END:DAYLIGHT
BEGIN:STANDARD
TZOFFSETFROM:+0200
TZOFFSETTO:+0100
TZNAME:CET
DTSTART:20271031T010000
END:STANDARD
END:VTIMEZONE
BEGIN:VEVENT
DTSTART;VALUE=DATE:20251228
DTEND;VALUE=DATE:20261229
DTSTAMP:20260420T214826
CREATED:20251228T152019Z
LAST-MODIFIED:20260126T124424Z
UID:10000323-1766880000-1798502399@symposion-lindabrunn.at
SUMMARY:That was 2025
DESCRIPTION:
URL:https://symposion-lindabrunn.at/event/that-was-2025/?lang=en
CATEGORIES:all,public
END:VEVENT
BEGIN:VEVENT
DTSTART;VALUE=DATE:20260516
DTEND;VALUE=DATE:20260702
DTSTAMP:20260420T214827
CREATED:20260310T095033Z
LAST-MODIFIED:20260325T210535Z
UID:10000357-1778889600-1782950399@symposion-lindabrunn.at
SUMMARY:In the CUBO : Camille Dedenise
DESCRIPTION:
URL:https://symposion-lindabrunn.at/event/in-the-cubo-camille-dedenise/?lang=en
LOCATION:Symposion Lindabrunn\, Steinbruchstraße 25\, Enzesfeld-Lindabrunn\, 2551
CATEGORIES:all,public
END:VEVENT
BEGIN:VEVENT
DTSTART;VALUE=DATE:20260601
DTEND;VALUE=DATE:20260609
DTSTAMP:20260420T214827
CREATED:20260302T191917Z
LAST-MODIFIED:20260331T175042Z
UID:10000362-1780272000-1780963199@symposion-lindabrunn.at
SUMMARY:Production residency Yvo Kaufmann & Maria Seisenbacher: get out of the neocortex
DESCRIPTION:
URL:https://symposion-lindabrunn.at/event/production-residency-yvo-kaufmann-maria-seisenbacher-get-out-of-the-neocortex/?lang=en
LOCATION:Symposion Lindabrunn\, Steinbruchstraße 25\, Enzesfeld-Lindabrunn\, 2551
CATEGORIES:all,production
END:VEVENT
BEGIN:VEVENT
DTSTART;TZID=Europe/Vienna:20260607T160000
DTEND;TZID=Europe/Vienna:20260607T180000
DTSTAMP:20260420T214827
CREATED:20260302T113838Z
LAST-MODIFIED:20260331T180455Z
UID:10000340-1780848000-1780855200@symposion-lindabrunn.at
SUMMARY:Salon im Grünen: get out of the neocortex
DESCRIPTION:with Yvo Kaufmann & Maria Seisenbacher \n„get out of the neocortex“ is a series of experiments in between literature\, Body movement and Voice. Supported by the framework of a Kundalini Kriya\, Kaufmann and Seisenbacher are working on their participatory performance format and invite you to take part.
URL:https://symposion-lindabrunn.at/event/salon-im-gruenen-get-out-of-the-neocortex/?lang=en
LOCATION:Symposion Lindabrunn\, Steinbruchstraße 25\, Enzesfeld-Lindabrunn\, 2551
CATEGORIES:all,production,public
ATTACH;FMTTYPE=image/jpeg:https://symposion-lindabrunn.at/wp-content/uploads/2024/02/Gelaende2.jpg
END:VEVENT
BEGIN:VEVENT
DTSTART;VALUE=DATE:20260626
DTEND;VALUE=DATE:20260629
DTSTAMP:20260420T214827
CREATED:20260302T192039Z
LAST-MODIFIED:20260331T175041Z
UID:10000360-1782432000-1782691199@symposion-lindabrunn.at
SUMMARY:Production stay Metafunk
DESCRIPTION:
URL:https://symposion-lindabrunn.at/event/production-stay-metafunk/?lang=en
LOCATION:Symposion Lindabrunn\, Steinbruchstraße 25\, Enzesfeld-Lindabrunn\, 2551
CATEGORIES:all,production
END:VEVENT
END:VCALENDAR