	

BEGIN:VCALENDAR
VERSION:2.0
PRODID:-//Symposion Lindabrunn - ECPv6.15.20//NONSGML v1.0//EN
CALSCALE:GREGORIAN
METHOD:PUBLISH
X-ORIGINAL-URL:https://symposion-lindabrunn.at/?lang=en
X-WR-CALDESC:Events for Symposion Lindabrunn
REFRESH-INTERVAL;VALUE=DURATION:PT1H
X-Robots-Tag:noindex
X-PUBLISHED-TTL:PT1H
BEGIN:VTIMEZONE
TZID:Europe/Vienna
BEGIN:DAYLIGHT
TZOFFSETFROM:+0100
TZOFFSETTO:+0200
TZNAME:CEST
DTSTART:20240331T010000
END:DAYLIGHT
BEGIN:STANDARD
TZOFFSETFROM:+0200
TZOFFSETTO:+0100
TZNAME:CET
DTSTART:20241027T010000
END:STANDARD
BEGIN:DAYLIGHT
TZOFFSETFROM:+0100
TZOFFSETTO:+0200
TZNAME:CEST
DTSTART:20250330T010000
END:DAYLIGHT
BEGIN:STANDARD
TZOFFSETFROM:+0200
TZOFFSETTO:+0100
TZNAME:CET
DTSTART:20251026T010000
END:STANDARD
BEGIN:DAYLIGHT
TZOFFSETFROM:+0100
TZOFFSETTO:+0200
TZNAME:CEST
DTSTART:20260329T010000
END:DAYLIGHT
BEGIN:STANDARD
TZOFFSETFROM:+0200
TZOFFSETTO:+0100
TZNAME:CET
DTSTART:20261025T010000
END:STANDARD
END:VTIMEZONE
BEGIN:VEVENT
DTSTART;VALUE=DATE:20250303
DTEND;VALUE=DATE:20250628
DTSTAMP:20260420T182328
CREATED:20250303T182004Z
LAST-MODIFIED:20250507T174027Z
UID:10000284-1740960000-1751068799@symposion-lindabrunn.at
SUMMARY:Save the House  -  Call for Donations
DESCRIPTION:Crowdfunding \nMost of you will have noticed over the last few months that the clubhouse is in dire need of renovation and we have a lot of work to do. A lot of energy\, lifeblood and volunteer hours have gone into maintaining the building. Students from the design.build studio\, a course at the Vienna University of Technology under the direction of Peter Fattinger\, have been developing a new concept for the front part of the Vereinshaus since last year and will be implementing it between April and June.\nTwo new exhibition spaces will be created\, and in the following year we will devote ourselves to renovating the rear section. \nBut it also takes money and sponsorship to pay for our material costs. \n♥ We kindly ask for your support and donations \nCrowdfunding \nVerein Symposion Lindabrunn\nRaika Enzesfeld\nIBAN: AT07 3204 5000 0080 5317\nBIC: RLNWATWWBAD \n 
URL:https://symposion-lindabrunn.at/event/save-the-house-spendenaufruf/?lang=en
LOCATION:Symposion Lindabrunn\, Steinbruchstraße 25\, Enzesfeld-Lindabrunn\, 2551
CATEGORIES:all,production,public
ATTACH;FMTTYPE=image/jpeg:https://symposion-lindabrunn.at/wp-content/uploads/2025/03/spendenaufruf.jpg
END:VEVENT
END:VCALENDAR