	

BEGIN:VCALENDAR
VERSION:2.0
PRODID:-//Symposion Lindabrunn - ECPv6.15.20//NONSGML v1.0//EN
CALSCALE:GREGORIAN
METHOD:PUBLISH
X-WR-CALNAME:Symposion Lindabrunn
X-ORIGINAL-URL:https://symposion-lindabrunn.at/?lang=en
X-WR-CALDESC:Events for Symposion Lindabrunn
REFRESH-INTERVAL;VALUE=DURATION:PT1H
X-Robots-Tag:noindex
X-PUBLISHED-TTL:PT1H
BEGIN:VTIMEZONE
TZID:Europe/Paris
BEGIN:DAYLIGHT
TZOFFSETFROM:+0100
TZOFFSETTO:+0200
TZNAME:CEST
DTSTART:20230326T010000
END:DAYLIGHT
BEGIN:STANDARD
TZOFFSETFROM:+0200
TZOFFSETTO:+0100
TZNAME:CET
DTSTART:20231029T010000
END:STANDARD
BEGIN:DAYLIGHT
TZOFFSETFROM:+0100
TZOFFSETTO:+0200
TZNAME:CEST
DTSTART:20240331T010000
END:DAYLIGHT
BEGIN:STANDARD
TZOFFSETFROM:+0200
TZOFFSETTO:+0100
TZNAME:CET
DTSTART:20241027T010000
END:STANDARD
BEGIN:DAYLIGHT
TZOFFSETFROM:+0100
TZOFFSETTO:+0200
TZNAME:CEST
DTSTART:20250330T010000
END:DAYLIGHT
BEGIN:STANDARD
TZOFFSETFROM:+0200
TZOFFSETTO:+0100
TZNAME:CET
DTSTART:20251026T010000
END:STANDARD
END:VTIMEZONE
BEGIN:VEVENT
DTSTART;TZID=Europe/Paris:20240916T080000
DTEND;TZID=Europe/Paris:20240927T170000
DTSTAMP:20260420T200810
CREATED:20240213T170754Z
LAST-MODIFIED:20240302T184525Z
UID:10000034-1726473600-1727456400@symposion-lindabrunn.at
SUMMARY:Open Think Tank
DESCRIPTION:In the dense annual program of Symposion Lindabrunn\, this period is reserved this year for spontaneous developments\, process-oriented think tanks\, in-depth discussions and further networking from the annual themes. In the open development space\, the production workshops and technical equipment as well as the environment of the Symposion Lindabrunn association can be used by members\, cooperation partners and qualified art groups.
URL:https://symposion-lindabrunn.at/event/open-think-tank/?lang=en
CATEGORIES:production
END:VEVENT
END:VCALENDAR