	

BEGIN:VCALENDAR
VERSION:2.0
PRODID:-//Symposion Lindabrunn - ECPv6.15.20//NONSGML v1.0//EN
CALSCALE:GREGORIAN
METHOD:PUBLISH
X-ORIGINAL-URL:https://symposion-lindabrunn.at/?lang=en
X-WR-CALDESC:Events for Symposion Lindabrunn
REFRESH-INTERVAL;VALUE=DURATION:PT1H
X-Robots-Tag:noindex
X-PUBLISHED-TTL:PT1H
BEGIN:VTIMEZONE
TZID:UTC
BEGIN:STANDARD
TZOFFSETFROM:+0000
TZOFFSETTO:+0000
TZNAME:UTC
DTSTART:20230101T000000
END:STANDARD
END:VTIMEZONE
BEGIN:VEVENT
DTSTART;VALUE=DATE:20240720
DTEND;VALUE=DATE:20240727
DTSTAMP:20260424T135012
CREATED:20240206T191836Z
LAST-MODIFIED:20240225T165901Z
UID:10000017-1721433600-1722038399@symposion-lindabrunn.at
SUMMARY:SummerArtAcademie
DESCRIPTION:Art workshops for children\, young people and families. \n\n\n\nArtists from different cultures and nations offer insights into the fields of painting\, graphic design\, photography\, sound design\, textile design\, drawing\, literature\, journalism\, dance\, music and science.
URL:https://symposion-lindabrunn.at/event/sommerkunstakademie/?lang=en
LOCATION:Symposion Lindabrunn\, Steinbruchstraße 25\, Enzesfeld-Lindabrunn\, 2551
CATEGORIES:public
END:VEVENT
END:VCALENDAR