	

BEGIN:VCALENDAR
VERSION:2.0
PRODID:-//Symposion Lindabrunn - ECPv6.15.20//NONSGML v1.0//EN
CALSCALE:GREGORIAN
METHOD:PUBLISH
X-WR-CALNAME:Symposion Lindabrunn
X-ORIGINAL-URL:https://symposion-lindabrunn.at/?lang=en
X-WR-CALDESC:Events for Symposion Lindabrunn
REFRESH-INTERVAL;VALUE=DURATION:PT1H
X-Robots-Tag:noindex
X-PUBLISHED-TTL:PT1H
BEGIN:VTIMEZONE
TZID:Europe/Paris
BEGIN:DAYLIGHT
TZOFFSETFROM:+0100
TZOFFSETTO:+0200
TZNAME:CEST
DTSTART:20230326T010000
END:DAYLIGHT
BEGIN:STANDARD
TZOFFSETFROM:+0200
TZOFFSETTO:+0100
TZNAME:CET
DTSTART:20231029T010000
END:STANDARD
BEGIN:DAYLIGHT
TZOFFSETFROM:+0100
TZOFFSETTO:+0200
TZNAME:CEST
DTSTART:20240331T010000
END:DAYLIGHT
BEGIN:STANDARD
TZOFFSETFROM:+0200
TZOFFSETTO:+0100
TZNAME:CET
DTSTART:20241027T010000
END:STANDARD
BEGIN:DAYLIGHT
TZOFFSETFROM:+0100
TZOFFSETTO:+0200
TZNAME:CEST
DTSTART:20250330T010000
END:DAYLIGHT
BEGIN:STANDARD
TZOFFSETFROM:+0200
TZOFFSETTO:+0100
TZNAME:CET
DTSTART:20251026T010000
END:STANDARD
END:VTIMEZONE
BEGIN:VEVENT
DTSTART;TZID=Europe/Paris:20240528T080000
DTEND;TZID=Europe/Paris:20240606T170000
DTSTAMP:20260425T185338
CREATED:20240213T164644Z
LAST-MODIFIED:20240226T132644Z
UID:10000031-1716883200-1717693200@symposion-lindabrunn.at
SUMMARY:The BABEL Experiment – Maurizio Nardo and Peter Brandlmayr
DESCRIPTION:During their residency\, Maurizio Nardo and Peter Brandlmayr will explore a fundamentally existent\, measuring and relative concept of language in theory and practice.The setting seems suitable to them\, as at the symposium humans coexist physically and mentally with animate and inanimate nature. The artists’ focus is on the threshold zones between the participants\, i.e. on impression and impression. \n\n\n\nBased on their experiences\, they would like to develop an experimental arrangement or an instrumental setting with which the relative discretion of fundamentally existing communication can become apparent\, in the form of an experiment including a theoretical introduction.
URL:https://symposion-lindabrunn.at/event/das-babel-experiment-maurizio-nardo-und-peter-brandlmayr/?lang=en
CATEGORIES:production
ATTACH;FMTTYPE=image/jpeg:https://symposion-lindabrunn.at/wp-content/uploads/2020/08/IMG_5466-scaled-1.jpg
END:VEVENT
END:VCALENDAR