	

BEGIN:VCALENDAR
VERSION:2.0
PRODID:-//Symposion Lindabrunn - ECPv6.15.20//NONSGML v1.0//EN
CALSCALE:GREGORIAN
METHOD:PUBLISH
X-ORIGINAL-URL:https://symposion-lindabrunn.at/?lang=en
X-WR-CALDESC:Events for Symposion Lindabrunn
REFRESH-INTERVAL;VALUE=DURATION:PT1H
X-Robots-Tag:noindex
X-PUBLISHED-TTL:PT1H
BEGIN:VTIMEZONE
TZID:UTC
BEGIN:STANDARD
TZOFFSETFROM:+0000
TZOFFSETTO:+0000
TZNAME:UTC
DTSTART:20230101T000000
END:STANDARD
END:VTIMEZONE
BEGIN:VEVENT
DTSTART;TZID=UTC:20240524T190000
DTEND;TZID=UTC:20240525T220000
DTSTAMP:20260425T150738
CREATED:20240206T190919Z
LAST-MODIFIED:20240302T184643Z
UID:10000020-1716577200-1716674400@symposion-lindabrunn.at
SUMMARY:PERFORMING UTOPIA – An AI-Opera
DESCRIPTION:Live performance on May 24th and May 25th at 7pm \n\n\n\nA project by alien productions (Martin Breindl\, Norbert Math und Andrea Sodomka) presented by Viertelfestival 2024 \n\n\n\nThe utopian genre is difficult. It seems as if the future has lost everything worth striving for; it has become a place of diffuse fears. What we need are better utopias.  And this is where Performing Utopia utilises precisely the technology that\, depending on your point of view\, either enhances or threatens human intelligence: artificial intelligence. \n\n\n\nFor the opera\, artificial intelligences were trained on historical utopian texts. During the performance\, human and artificial voices interact and both perform the resulting machine-generated texts. The music and stage design were also composed with the help of neural networks and interpreted by musicians and artists. And so Performing Utopia is indeed a co-operation between human and artificial perspectives. In the sense of a post-humanist ecology in which only intelligent networks remain viable – regardless of whether humans are involved or not.
URL:https://symposion-lindabrunn.at/event/performing-utopia-eine-ki-oper/?lang=en
LOCATION:Symposion Lindabrunn\, Steinbruchstraße 25\, Enzesfeld-Lindabrunn\, 2551
CATEGORIES:public
ATTACH;FMTTYPE=image/jpeg:https://symposion-lindabrunn.at/wp-content/uploads/2024/02/performing_utopia_photo_by_Barthelemy_Garcia_02-scaled.jpg
END:VEVENT
END:VCALENDAR