	

BEGIN:VCALENDAR
VERSION:2.0
PRODID:-//Symposion Lindabrunn - ECPv6.15.20//NONSGML v1.0//EN
CALSCALE:GREGORIAN
METHOD:PUBLISH
X-WR-CALNAME:Symposion Lindabrunn
X-ORIGINAL-URL:https://symposion-lindabrunn.at/?lang=en
X-WR-CALDESC:Events for Symposion Lindabrunn
REFRESH-INTERVAL;VALUE=DURATION:PT1H
X-Robots-Tag:noindex
X-PUBLISHED-TTL:PT1H
BEGIN:VTIMEZONE
TZID:Europe/Paris
BEGIN:DAYLIGHT
TZOFFSETFROM:+0100
TZOFFSETTO:+0200
TZNAME:CEST
DTSTART:20230326T010000
END:DAYLIGHT
BEGIN:STANDARD
TZOFFSETFROM:+0200
TZOFFSETTO:+0100
TZNAME:CET
DTSTART:20231029T010000
END:STANDARD
BEGIN:DAYLIGHT
TZOFFSETFROM:+0100
TZOFFSETTO:+0200
TZNAME:CEST
DTSTART:20240331T010000
END:DAYLIGHT
BEGIN:STANDARD
TZOFFSETFROM:+0200
TZOFFSETTO:+0100
TZNAME:CET
DTSTART:20241027T010000
END:STANDARD
BEGIN:DAYLIGHT
TZOFFSETFROM:+0100
TZOFFSETTO:+0200
TZNAME:CEST
DTSTART:20250330T010000
END:DAYLIGHT
BEGIN:STANDARD
TZOFFSETFROM:+0200
TZOFFSETTO:+0100
TZNAME:CET
DTSTART:20251026T010000
END:STANDARD
END:VTIMEZONE
BEGIN:VEVENT
DTSTART;TZID=Europe/Paris:20240515T080000
DTEND;TZID=Europe/Paris:20240519T170000
DTSTAMP:20260425T183450
CREATED:20240213T135216Z
LAST-MODIFIED:20240213T135504Z
UID:10000022-1715760000-1716138000@symposion-lindabrunn.at
SUMMARY:Residency: Kunstuniversität Linz - Chris Janka
DESCRIPTION:Sound Lab of the Class for Experimental DesignThe project days of the experimental sound laboratory of the University of Art and Design Linz at SymposionLindabrunn focus on sound experiments\, installations and improvisations.improvisations. The curriculum for experimental art is an artistic laboratory for creative freedom.creative freedom. A freedom that is often hard to find. The excursion framework at theVSL offers it and thus enables the realization and development of new concepts.
URL:https://symposion-lindabrunn.at/event/produktionsaufenthalt-kunstuniversitaet-linz-chris-janka/?lang=en
CATEGORIES:production
ATTACH;FMTTYPE=image/jpeg:https://symposion-lindabrunn.at/wp-content/uploads/2020/08/200419-P1015111©ArnoldHaberl-scaled-1.jpg
END:VEVENT
END:VCALENDAR