	

BEGIN:VCALENDAR
VERSION:2.0
PRODID:-//Symposion Lindabrunn - ECPv6.15.20//NONSGML v1.0//EN
CALSCALE:GREGORIAN
METHOD:PUBLISH
X-ORIGINAL-URL:https://symposion-lindabrunn.at
X-WR-CALDESC:Veranstaltungen für Symposion Lindabrunn
REFRESH-INTERVAL;VALUE=DURATION:PT1H
X-Robots-Tag:noindex
X-PUBLISHED-TTL:PT1H
BEGIN:VTIMEZONE
TZID:Europe/Vienna
BEGIN:DAYLIGHT
TZOFFSETFROM:+0100
TZOFFSETTO:+0200
TZNAME:CEST
DTSTART:20240331T010000
END:DAYLIGHT
BEGIN:STANDARD
TZOFFSETFROM:+0200
TZOFFSETTO:+0100
TZNAME:CET
DTSTART:20241027T010000
END:STANDARD
BEGIN:DAYLIGHT
TZOFFSETFROM:+0100
TZOFFSETTO:+0200
TZNAME:CEST
DTSTART:20250330T010000
END:DAYLIGHT
BEGIN:STANDARD
TZOFFSETFROM:+0200
TZOFFSETTO:+0100
TZNAME:CET
DTSTART:20251026T010000
END:STANDARD
BEGIN:DAYLIGHT
TZOFFSETFROM:+0100
TZOFFSETTO:+0200
TZNAME:CEST
DTSTART:20260329T010000
END:DAYLIGHT
BEGIN:STANDARD
TZOFFSETFROM:+0200
TZOFFSETTO:+0100
TZNAME:CET
DTSTART:20261025T010000
END:STANDARD
END:VTIMEZONE
BEGIN:VEVENT
DTSTART;VALUE=DATE:20250704
DTEND;VALUE=DATE:20250707
DTSTAMP:20260420T150941
CREATED:20250303T124715Z
LAST-MODIFIED:20250314T144945Z
UID:10000250-1751587200-1751846399@symposion-lindabrunn.at
SUMMARY:Metafunk Produktionsaufenthalt
DESCRIPTION:Die Funkstation am Container am Symposion wird von dem Kollektiv Metafunk betrieben. Alljährlich werden am Symposion Workshops und Treffen für Freunde der drahtungebundenen Kommunikation abgehalten.
URL:https://symposion-lindabrunn.at/event/produktionsaufenthalt-metafunk-2/
LOCATION:Symposion Lindabrunn\, Steinbruchstraße 25\, Enzesfeld-Lindabrunn\, 2551
CATEGORIES:Alle,Atelier
ATTACH;FMTTYPE=image/jpeg:https://symposion-lindabrunn.at/wp-content/uploads/2025/03/Metafunk.jpg
END:VEVENT
BEGIN:VEVENT
DTSTART;TZID=Europe/Vienna:20250712T183000
DTEND;TZID=Europe/Vienna:20250712T230000
DTSTAMP:20260420T150941
CREATED:20250627T085836Z
LAST-MODIFIED:20250627T231754Z
UID:10000302-1752345000-1752361200@symposion-lindabrunn.at
SUMMARY:Der Bloede  Dritte Mittwoch  Zweite Samstag #150
DESCRIPTION:Sommer Open Air\n12.07.2025\, 18:30\n*** Téphra // Hvizdalek & Roisz [Concert] \n*** ANGST // giggidalessio [Performance] \n*** Glashaus // Die Brrrds+Y [Concert] \n*** Gelb // Buenoventura [Concert]\nOh my got!! how to get there??\nsee answers ganz below !! \n*** Téphra // Hvizdalek & Roisz [Concert] \n  \n150 \n \nTephra: Hvizdalek & Roisz © Hvizdalek & Roisz \nThe new duo of Agnes Hvizdalek and Billy Roisz – Téphra – interweaves abstract voice particles\, noises and glitch electronics into a multi-layered wall of sound in their performance. Fragility and instability are not weaknesses in their performance\, but strengths. \nTéphra divides\, chops\, crumbles\, fizzles out\, smashes\, vaporizes\, disperses. \nTéphra puts together\, layers\, merges\, compresses. \nAgnes Hvizdalek – voice \nBilly Roisz – electronics & other devices \n  \nTéphra is fragmental material produced by a volcanic eruption regardless of composition\, fragment size\, or emplacement mechanism . The word téphra (τέφρα ) means “ash”. (Wikipedia) \nhttp://agneshvizdalek.at/ \n*** ANGST // giggidalessio [Performance] \ngiggidalessio is a NO CONCEPT Duo. Their concept is fun\, randomness\, serious irony and not having a concept. They mix performance\, music\, obsessive repetitions and new media. \ngiggidalessio are Stefano D’Alessio & Luigi Guerrieri \nhttps://cargocollective.com/stefanodalessio \nhttps://www.luigiguerrieri.com/content/ \nRealised with the kind support of Bears in the Park and ImFlieger. \ngiggidalessio © Stefano D’Alessio \n*** Glashaus // Die Brrrds+Y [Concert] \nDie Brrrds +Y \nDie BRRRDS schwärmen seit 2022 durch die endlosen Biotope von Improvisation\, Konzept und Komposition. In ihrer flötenden Feldforschung erkunden sie kollektive Bewegungen\, sowohl in der Gesellschaft als auch in der Natur und übersetzen diese in flirrenden Klang. Mitunter befinden sie sich in einem Gewächshaus und vertonen dieses frei nach ihrem inneren Blick\, sei es durch eine Lupe oder auch mal im Zeitraffer. \nBRRRDS + Y sind Christine Gnigler\, Maja Osojnik und Sara Zlanabitnig (diverse Block- und Querflöten) & Milena Georgieva aka Yuzu (Live-Elektronik und Synthesizer). \nhttps://www.christinegnigler.com/https://maja.klingt.org/ \nhttps://sarazlanabitnig.com/ \nhttps://milenageorgieva.xyz/Yuzu \nVideo still © Brrrds +Y \n*** Gelb // Buenoventura [Concert] \nGelb ist eine intuitive\, minimalistische Gitarren-Platte voller hypnotischer Schleifen\, glitzernder Details und organischer Energie. Die E-Gitarre steht klar im Zentrum – nicht als klassisches Rock-Instrument\, sondern als klangliches Forschungswerkzeug. Loops\, Bleeps\, Glitches und schlichte\, markante Melodien verdichten sich zu Tracks\, die ebenso ruhig fließen wie aufblühen können – irgendwo zwischen psychedelischer Sound Forschung und technoider Struktur. \nGelb ist die Destillation jahrzehntelanger Beschäftigung mit elektronischer\, experimenteller und minimalistischer Musik – nur eben gespielt auf der Gitarre\, dem Instrument\, das Bernhard Hammer am besten kennt und auf dem er am direktesten sprechen kann. Der Titel Gelb steht für Aufmerksamkeit\, für markierte Gedanken und leuchtende Ideen – wie ein Textmarker auf Papier. Entstanden in ein paar Monaten\, zuerst ohne klares Ziel\, ist Gelb ein Ausdruck purer musikalischer Neugier. Live wird diese Energie mit Gitarre und Effektgeräten direkt auf die Bühne übertragen – spontan\, roh und frei. \nGelb is a first solo album (Release May 23\, 2025) for the Viennese musician Bernhard Hammer (Elektro Guzzi\, Monochord\, Maraskino) releases under his pseudonym Buenoventura – a fictional character as mysterious as he is colorful: ex-sailor\, raver\, punk\, music lover. \nhttps://buenoventura2.bandcamp.com/album/gelb-2\nhttps://www.elektroguzzi.net/buenoventura \nhow to get there??\nÖffentlich:\n•⁠ ⁠Mit REX 3 von Wien Hbf (16:09 oder Wien Meidling 16:15) nach Leobersdorf (16:43)\nUmsteigen in den Bus 512 (16:45) nach Lindbrunn Angergasse (an 17h)\n5 min Fußweg Angergasse / Kirschgasse / Skulpturenpark bis zum Vereinshaus VSL\nÖffentlich und Fahrrad:\n•⁠ ⁠Mit REX 3 von Wien Hbf (16:09 oder Wien Meidling 16:15) nach Leobersdorf\, Anschluss nach Enzesfeld-Lindabrunn Bahnhof (R96\, ab 17:14 an Enzesfeld 17:21)\n15min Fahrrad zum Vereinshaus\noder gleich mit dem Fahrrad ab Leobersdorf ~30min\noder gleich mit dem Fahrrad ab Wien ~3h30\nMit eigenem Auto\, Wegbeschreibung: https://symposion-lindabrunn.at/anfahrt/\nRückfahrt:\n•⁠ ⁠Shuttle zum Bahnhof Enzesfeld-Lindabrunn zum Zug nach Wien 22:38 (an Wien Hbf 23:56) oder 23:38 (an Wien Hbf 0:56) bitte bei uns anmelden\n⁠Camping ist möglich !! (just bring a tent)
URL:https://symposion-lindabrunn.at/event/11744/
LOCATION:Symposion Lindabrunn\, Steinbruchstraße 25\, Enzesfeld-Lindabrunn\, 2551
CATEGORIES:Alle,Öffentlich
ATTACH;FMTTYPE=image/jpeg:https://symposion-lindabrunn.at/wp-content/uploads/2025/06/bloedermittwoch.jpg
END:VEVENT
BEGIN:VEVENT
DTSTART;TZID=Europe/Vienna:20250714T080000
DTEND;TZID=Europe/Vienna:20250719T170000
DTSTAMP:20260420T150941
CREATED:20250303T124919Z
LAST-MODIFIED:20250309T105418Z
UID:10000251-1752480000-1752944400@symposion-lindabrunn.at
SUMMARY:Sommerkunstakademie '25
DESCRIPTION:Die beliebte Sommerkunstakademie ist mittlerweile zu einer Institution des Symposion Lindabrunn geworden und vermittelt künstlerische Kenntnisse für Kinder\, Jugendliche und Familien. \nDas Programm dieser Kooperation mit _dieARTE umfasst künstlerische Workshops für Kinder\, Jugendliche und Familien. \nSie können neue Techniken ausprobieren\, sich künstlerisch entfalten und ihr Wissen erweitern. Das große Finale der Sommerakademie bildet eine öffentliche Präsentation im Kommunikationszentrum und auf den Ausstellungsflächen des VSL. \nDetailliertes Programm und Anmeldung auf der website von _dieArte \n 
URL:https://symposion-lindabrunn.at/event/sommerkunstakademie-25/
LOCATION:Symposion Lindabrunn\, Steinbruchstraße 25\, Enzesfeld-Lindabrunn\, 2551
CATEGORIES:Alle,Atelier,Öffentlich
ATTACH;FMTTYPE=image/jpeg:https://symposion-lindabrunn.at/wp-content/uploads/2025/03/Sommerakademie.jpg
END:VEVENT
BEGIN:VEVENT
DTSTART;TZID=Europe/Vienna:20250722T080000
DTEND;TZID=Europe/Vienna:20250804T170000
DTSTAMP:20260420T150941
CREATED:20250302T125134Z
LAST-MODIFIED:20260126T125336Z
UID:10000245-1753171200-1754326800@symposion-lindabrunn.at
SUMMARY:Sheri Avraham - Produktionsaufenthalt
DESCRIPTION:Sheri Avraham  ist Künstler_in\, Kurator_in\, Regisseur_in und Performer_in. In ihrer Arbeit in den Bereichen Photogramm\, Installation\, Video und Performance reflektiert sie gegenwärtige Formen des Kunstausdrucks und der Produktion. Als Vorstandsmitglied der IG bildenden Kunst ist sie auch kulturpolitisch aktiv. Während ihres Produktionsaufenthaltes am Symposion Lindabrunn möchte sie mit Kolleg_innen an der Choreographie für ein Performancestück arbeiten und in der Auseinandersetzung mit Stein und Natur neue Impulse gewinnen. \nBei einem „Salon im Grünen“ am Ende ihres Aufenthalts zeigt sie Einblicke in ihre Arbeitsweise und die Entwicklung des Stückes.
URL:https://symposion-lindabrunn.at/event/sheri-avraham/
LOCATION:Symposion Lindabrunn\, Steinbruchstraße 25\, Enzesfeld-Lindabrunn\, 2551
CATEGORIES:Alle,Atelier
ATTACH;FMTTYPE=image/jpeg:https://symposion-lindabrunn.at/wp-content/uploads/2025/03/sheri.jpg
END:VEVENT
END:VCALENDAR