	

BEGIN:VCALENDAR
VERSION:2.0
PRODID:-//Symposion Lindabrunn - ECPv6.15.20//NONSGML v1.0//EN
CALSCALE:GREGORIAN
METHOD:PUBLISH
X-ORIGINAL-URL:https://symposion-lindabrunn.at
X-WR-CALDESC:Veranstaltungen für Symposion Lindabrunn
REFRESH-INTERVAL;VALUE=DURATION:PT1H
X-Robots-Tag:noindex
X-PUBLISHED-TTL:PT1H
BEGIN:VTIMEZONE
TZID:Europe/Paris
BEGIN:DAYLIGHT
TZOFFSETFROM:+0100
TZOFFSETTO:+0200
TZNAME:CEST
DTSTART:20230326T010000
END:DAYLIGHT
BEGIN:STANDARD
TZOFFSETFROM:+0200
TZOFFSETTO:+0100
TZNAME:CET
DTSTART:20231029T010000
END:STANDARD
BEGIN:DAYLIGHT
TZOFFSETFROM:+0100
TZOFFSETTO:+0200
TZNAME:CEST
DTSTART:20240331T010000
END:DAYLIGHT
BEGIN:STANDARD
TZOFFSETFROM:+0200
TZOFFSETTO:+0100
TZNAME:CET
DTSTART:20241027T010000
END:STANDARD
BEGIN:DAYLIGHT
TZOFFSETFROM:+0100
TZOFFSETTO:+0200
TZNAME:CEST
DTSTART:20250330T010000
END:DAYLIGHT
BEGIN:STANDARD
TZOFFSETFROM:+0200
TZOFFSETTO:+0100
TZNAME:CET
DTSTART:20251026T010000
END:STANDARD
END:VTIMEZONE
BEGIN:VTIMEZONE
TZID:UTC
BEGIN:STANDARD
TZOFFSETFROM:+0000
TZOFFSETTO:+0000
TZNAME:UTC
DTSTART:20230101T000000
END:STANDARD
END:VTIMEZONE
BEGIN:VTIMEZONE
TZID:Europe/Vienna
BEGIN:DAYLIGHT
TZOFFSETFROM:+0100
TZOFFSETTO:+0200
TZNAME:CEST
DTSTART:20230326T010000
END:DAYLIGHT
BEGIN:STANDARD
TZOFFSETFROM:+0200
TZOFFSETTO:+0100
TZNAME:CET
DTSTART:20231029T010000
END:STANDARD
BEGIN:DAYLIGHT
TZOFFSETFROM:+0100
TZOFFSETTO:+0200
TZNAME:CEST
DTSTART:20240331T010000
END:DAYLIGHT
BEGIN:STANDARD
TZOFFSETFROM:+0200
TZOFFSETTO:+0100
TZNAME:CET
DTSTART:20241027T010000
END:STANDARD
BEGIN:DAYLIGHT
TZOFFSETFROM:+0100
TZOFFSETTO:+0200
TZNAME:CEST
DTSTART:20250330T010000
END:DAYLIGHT
BEGIN:STANDARD
TZOFFSETFROM:+0200
TZOFFSETTO:+0100
TZNAME:CET
DTSTART:20251026T010000
END:STANDARD
END:VTIMEZONE
BEGIN:VEVENT
DTSTART;TZID=Europe/Paris:20240528T080000
DTEND;TZID=Europe/Paris:20240606T170000
DTSTAMP:20260424T134845
CREATED:20240213T164644Z
LAST-MODIFIED:20241031T092008Z
UID:10000032-1716883200-1717693200@symposion-lindabrunn.at
SUMMARY:Das BABEL-Experiment – Maurizio Nardo and Peter Brandlmayr
DESCRIPTION:Maurizio Nardo und Peter Brandlmayr werden bei ihrem Aufenthalt einer fundamental existenten\, ermessenden und relativen Sprachvorstellung in Theorie und Praxis nachspüren. \n\n\n\nDas Setting scheint ihnen geeignet\, da am Symposion der Mensch physisch und geistig mit belebter und unbelebter Natur koexistiert. Der Fokus der Künstler liegt auf den Schwellenzonen zwischen den Beteiligten\, das heißt auf Aus- und Eindruck. Sie möchten auf Basis ihrer Erfahrungen eine Versuchsanordnung bzw. ein instrumentelles Setting erarbeiten\, mit dem das relative Ermessen fundamental existenter Kommunikation augenfällig werden kann\, in Form eines Experiments samt theoretischer Einführung.
URL:https://symposion-lindabrunn.at/event/das-babel-experiment-maurizio-nardo-und-peter-brandlmayr/
CATEGORIES:Atelier
ATTACH;FMTTYPE=image/jpeg:https://symposion-lindabrunn.at/wp-content/uploads/2020/08/IMG_5466-scaled-1.jpg
END:VEVENT
BEGIN:VEVENT
DTSTART;TZID=UTC:20240611T080000
DTEND;TZID=UTC:20240611T170000
DTSTAMP:20260424T134845
CREATED:20240206T193218Z
LAST-MODIFIED:20240311T120934Z
UID:10000009-1718092800-1718125200@symposion-lindabrunn.at
SUMMARY:Die Säulen und ich – Kunstvermittlung für Schulklassen
DESCRIPTION:und 25. Juni\n\nDas Werk Die Säulen wurde 1978 von Tomou Kobori\, Mathias Hietz\, Franz Katzgraber und Jun Ohara geschaffen. Rechts der Schotterstraße zum zentralen Kommunikationszentrum stehen neun einfache\, zylindrische Steinformen unterschiedlicher Höhe. Das Werk erfordert Partizipation von Seiten der Betrachter*innen\, denn das es besteht aus zwei Elementen: den tragenden Säulen und einer (unsichtbaren) lastenden Form. Kobori\, der die Idee zu diesem Werk hatte\, stellte sich ein Luftschloss vor. Um diesem Luftschloss auf die Spur zu kommen\, muss man den richtigen Standpunkt wählen. Nur von diesem aus\, sind die Säulen von gleicher Höhe und können gemeinsam das Luftschloss tragen. \nIn Kooperation mit lokalen Volksschulklassen finden im Juni Workshops für Kinder statt\, bei denen sie das Symposion Lindabrunn und seine Skulpturen durch ein aktives\, partizipatives künstlerisches Erleben und Tun kennen lernen und ihre eigenen Werke schaffen können. \n 
URL:https://symposion-lindabrunn.at/event/die-saulen-und-ich-kunstvermittlung-fur-schulklassen/
CATEGORIES:Atelier
END:VEVENT
BEGIN:VEVENT
DTSTART;TZID=Europe/Paris:20240614T080000
DTEND;TZID=Europe/Paris:20240616T170000
DTSTAMP:20260424T134845
CREATED:20240213T155422Z
LAST-MODIFIED:20250310T205337Z
UID:10000025-1718352000-1718557200@symposion-lindabrunn.at
SUMMARY:Produktionsaufenthalt: Metafunk
DESCRIPTION:Das Funkkollektiv Metafunk betreibt seit vielen Jahren eine Funkstation am Symposion Lindabrunn. Bei einem jährlichen Produktionsaufenthalt arbeiten die Mitglieder an der Instandhaltung und stellen in Workshops Fragen rund um das Thema Amateurfunk in aktuellen gesellschaftlichen und künstlerischen Kontext.
URL:https://symposion-lindabrunn.at/event/produktionsaufenthalt-metafunk/
CATEGORIES:Atelier
ATTACH;FMTTYPE=image/jpeg:https://symposion-lindabrunn.at/wp-content/uploads/2024/02/Metafunk.jpg
END:VEVENT
BEGIN:VEVENT
DTSTART;VALUE=DATE:20240621
DTEND;VALUE=DATE:20240622
DTSTAMP:20260424T134845
CREATED:20241108T202515Z
LAST-MODIFIED:20250303T222559Z
UID:10000262-1718928000-1719014399@symposion-lindabrunn.at
SUMMARY:monocon – Barcamp
DESCRIPTION:Die monocon ist eine seit 2018 stattfindende Unkonferenz mit offenen Workshops\, Vorträgen und Präsentationen deren Inhalte und Ablauf von den Teilnehmer:innen zu Beginn der Tagung selbst entwickelt und im weiteren Verlauf gestaltet werden. \nVeranstaltet wird die monocon von monochrom einem international agierenden Kunst-Technologie-Philosophie Kollektiv. Gegründet wurde monochrom 1993. Die Gruppe arbeitet mit den verschiedensten Medien und Kunstformaten und veröffentlicht die Buch- und Magazinreihe monochrom. \nDie Gruppe monochrom bezeichnet ihre Arbeitsweise als »Context Hacking« und bezieht sich damit auf die Hacker:innenkultur\, die einen kreativen und emanzipatorischen Umgang mit den Technologien des digitalen Zeitalters propagiert und sich so gegen die Verlängerung einer Jahrhunderte alten Kultur technologischen Herrschaftswissens und der Expert:innenhierarchien ins digitale Zeitalter wendet. Mit dessen elektronischen Massenmedien erscheint die Demokratisierung bzw. Vergesellschaftung der Produktionsmittel erstmals realisierbar (ohne eine andere als die technische Revolution zu benötigen). \nContext Hacking überträgt Ansprüche und Herangehensweisen der Hacker_innen auf jene sozialen und gesellschaftlichen Verhältnisse\, in denen sich künstlerische Produktion vollzieht und auf die sie wiederum angewiesen ist. In einem metaphorischen Sinne besitzen auch diese einen Quellcode. In ihnen laufen Programme ab\, denen wir auf einer Benutzer:innenoberfläche gegenüberstehen. Wo wir wissen\, wie und durch was ein Raum\, eine Nische\, eine Szene\, eine Subkultur\, eine mediale oder politische Praxis funktioniert\, können wir sie verändern und »umcodieren«\, ihre Machtverhältnisse dekonstruieren und uns von ihren Zwängen und Zurichtungsweisen emanzipieren.
URL:https://symposion-lindabrunn.at/event/monocon-barcamp/
LOCATION:Symposion Lindabrunn\, Steinbruchstraße 25\, Enzesfeld-Lindabrunn\, 2551
CATEGORIES:Alle,Öffentlich
ATTACH;FMTTYPE=image/jpeg:https://symposion-lindabrunn.at/wp-content/uploads/2020/10/monocon.jpg
END:VEVENT
BEGIN:VEVENT
DTSTART;VALUE=DATE:20240621
DTEND;VALUE=DATE:20240623
DTSTAMP:20260424T134845
CREATED:20240206T184837Z
LAST-MODIFIED:20240614T174157Z
UID:10000004-1718928000-1719100799@symposion-lindabrunn.at
SUMMARY:monocon // Nature Challenge
DESCRIPTION:Interspezielle Verschränkungen am Symposion: monochrom\, die Koryphäen des „Context Hacking“ laden zur Unkonferenz mit Workshops\, Vorträgen und Performance\, der Landschaftspflegeverein Thermenlinie und die Gemeinde zur „Nature Challenge“ im Gelände. \nZum Programm der Nature Challenge:https://landschaftspflegeverein.at/termine/nature-challenge-am-symposion-lindabrunn/ \nDie monocon ist eine seit 2018 stattfindende Unkonferenz mit offenen Workshops\, Vorträgen und Präsentationen\, deren Inhalte und Ablauf von den Teilnehmer*innen zu Beginn der Tagung selbst entwickelt und im weiteren Verlauf gestaltet werden. Veranstaltet wird die monocon von monochrom\, einem international agierenden Kunst-Technologie-Philosophie Kollektiv. Die Gruppe bezeichnet ihre Arbeitsweise als »Context Hacking« und bezieht sich damit auf die Hacker*innenkultur\, die einen kreativen und emanzipatorischen Umgang mit den Technologien des digitalen Zeitalters propagiert\, und sich so gegen die Verlängerung einer Jahrhunderte alten Kultur technologischen Herrschaftswissens und der Expert*innenhierarchien ins digitale Zeitalter wendet.
URL:https://symposion-lindabrunn.at/event/monocon/
CATEGORIES:Öffentlich
ATTACH;FMTTYPE=image/jpeg:https://symposion-lindabrunn.at/wp-content/uploads/2021/02/monocon-L.jpg
END:VEVENT
END:VCALENDAR