	

BEGIN:VCALENDAR
VERSION:2.0
PRODID:-//Symposion Lindabrunn - ECPv6.15.20//NONSGML v1.0//EN
CALSCALE:GREGORIAN
METHOD:PUBLISH
X-ORIGINAL-URL:https://symposion-lindabrunn.at
X-WR-CALDESC:Veranstaltungen für Symposion Lindabrunn
REFRESH-INTERVAL;VALUE=DURATION:PT1H
X-Robots-Tag:noindex
X-PUBLISHED-TTL:PT1H
BEGIN:VTIMEZONE
TZID:Europe/Vienna
BEGIN:DAYLIGHT
TZOFFSETFROM:+0100
TZOFFSETTO:+0200
TZNAME:CEST
DTSTART:20240331T010000
END:DAYLIGHT
BEGIN:STANDARD
TZOFFSETFROM:+0200
TZOFFSETTO:+0100
TZNAME:CET
DTSTART:20241027T010000
END:STANDARD
BEGIN:DAYLIGHT
TZOFFSETFROM:+0100
TZOFFSETTO:+0200
TZNAME:CEST
DTSTART:20250330T010000
END:DAYLIGHT
BEGIN:STANDARD
TZOFFSETFROM:+0200
TZOFFSETTO:+0100
TZNAME:CET
DTSTART:20251026T010000
END:STANDARD
BEGIN:DAYLIGHT
TZOFFSETFROM:+0100
TZOFFSETTO:+0200
TZNAME:CEST
DTSTART:20260329T010000
END:DAYLIGHT
BEGIN:STANDARD
TZOFFSETFROM:+0200
TZOFFSETTO:+0100
TZNAME:CET
DTSTART:20261025T010000
END:STANDARD
BEGIN:DAYLIGHT
TZOFFSETFROM:+0100
TZOFFSETTO:+0200
TZNAME:CEST
DTSTART:20270328T010000
END:DAYLIGHT
BEGIN:STANDARD
TZOFFSETFROM:+0200
TZOFFSETTO:+0100
TZNAME:CET
DTSTART:20271031T010000
END:STANDARD
END:VTIMEZONE
BEGIN:VEVENT
DTSTART;VALUE=DATE:20251228
DTEND;VALUE=DATE:20261229
DTSTAMP:20260420T120210
CREATED:20251228T152019Z
LAST-MODIFIED:20251228T152721Z
UID:10000320-1766880000-1798502399@symposion-lindabrunn.at
SUMMARY:That was 2025
DESCRIPTION:
URL:https://symposion-lindabrunn.at/event/that-was-2025/
CATEGORIES:Alle,Öffentlich
END:VEVENT
BEGIN:VEVENT
DTSTART;TZID=Europe/Vienna:20260313T170000
DTEND;TZID=Europe/Vienna:20260510T170000
DTSTAMP:20260420T120211
CREATED:20260302T105818Z
LAST-MODIFIED:20260331T104353Z
UID:10000327-1773421200-1778432400@symposion-lindabrunn.at
SUMMARY:im Cubo: Sheri Avraham
DESCRIPTION:Ausstellung im Cubo: Sheri Avraham – 70 Faces of the Tora \nIm Zeitalter der sozialen Medien schreiben wir uns kontinuierlich durch kuratierte Feeds\, Stories und Highlights ein. Diese digitalen Spuren werden zu einer zeitgenössischen heiligen Schriftrolle\, einem lebendigen Archiv\, durch das wir Anerkennung\, Zugehörigkeit und Wissen suchen. Unser Online-Ich\, sowohl selbst gestaltet als auch von außen auferlegt\, fungiert als modernes Ritual der Interpretation und des Glaubens. Innerhalb dieses Raums der Vielfältigkeit\, Widersprüchlichkeit und Intersektionalität entfaltet sich Identität als Performance und Verhandlung. \nDiese Arbeit  ist Teil des größeren Projekts „Mizrachi Futurism“ und ist die Fortsetzung einer Forschungsarbeit\, die während Sheris Produktionsaufenthalt im Symposion Lindabrunn im Jahr 2025 begann. \n„Mizrachi-Futurism“ ist eine spekulative Ästhetik\, die in der Identitätskategorie Mizrachim verwurzelt ist: Juden mit familiären Verbindungen zu nicht-westlichen Ländern. Inspiriert vom Afrofuturismus fungiert er als kulturpolitische Praxis\, die aufständische Zukunftsvisionen entwirft\, die auf Mizrachi-Geschichten\, diasporischem Wissen\, Hybridität und antikolonialer Kritik in Kunst\, Theorie und Performance basieren. Aus einer Mizrachi- und Queer-Perspektive reflektiert dieses Projekt fragmentierte Identität\, Sichtbarkeit und Zugehörigkeit. \n70 Gesichter der Tora präsentiert Identität als unendlich interpretierbar. In Anlehnung an den midraschischen Satz „Die Tora hat siebzig Gesichter“ suggeriert das Werk\, dass Identität\, ähnlich wie heilige Texte\, niemals eindeutig oder feststehend ist\, sondern fließend\, vielschichtig und offen für unendliche Interpretationen. \nWas bleibt verborgen\, und was wird gezeigt?
URL:https://symposion-lindabrunn.at/event/im-cubo-sheri-avraham/
LOCATION:Symposion Lindabrunn\, Steinbruchstraße 25\, Enzesfeld-Lindabrunn\, 2551
CATEGORIES:Alle,Öffentlich
ATTACH;FMTTYPE=image/jpeg:https://symposion-lindabrunn.at/wp-content/uploads/2026/03/70faces_web©sheriavraham.jpg
END:VEVENT
BEGIN:VEVENT
DTSTART;VALUE=DATE:20260420
DTEND;VALUE=DATE:20260427
DTSTAMP:20260420T120211
CREATED:20260302T191531Z
LAST-MODIFIED:20260302T191531Z
UID:10000352-1776643200-1777247999@symposion-lindabrunn.at
SUMMARY:Produktionsaufenthalt Kunstuni Linz
DESCRIPTION:Der Ausflug des experimentellen Soundlabors von Chris Janka an der Abteilung für Experimentelle Gestaltung der Kunstuni Linz auf das Symposion Lindabrunn fokussiert auf soundspielerische Experimente\, Installationen und Improvisationen. Der Lehrplan für experimentelle Kunst ist ein künstlerisches Labor für kreative Freiheit. Diese Freiheit ist oft schwer zu finden\, doch der Exkursionsrahmen zum VSL bietet sie und ermöglicht ein Umsetzen und Erarbeiten neuer Konzepte.
URL:https://symposion-lindabrunn.at/event/produktionsaufenthalt-kunstuni-linz/
LOCATION:Symposion Lindabrunn\, Steinbruchstraße 25\, Enzesfeld-Lindabrunn\, 2551
CATEGORIES:Alle,Atelier
END:VEVENT
BEGIN:VEVENT
DTSTART;TZID=Europe/Vienna:20260424T160000
DTEND;TZID=Europe/Vienna:20260424T180000
DTSTAMP:20260420T120211
CREATED:20260331T123454Z
LAST-MODIFIED:20260331T123454Z
UID:10000359-1777046400-1777053600@symposion-lindabrunn.at
SUMMARY:ORTE - Architekturnetzwerk Niederösterreich
DESCRIPTION:https://orte-noe.at/Plone/orte/programm/das-symposion-lindabrunn-und-geschichte-eines-umbaus \nDas Orte – Architekturnetzwerk Niederösterreich besucht den im vergangenen Jahr mit der TU Wien\, design.build.studio fertiggestellten Südostteils des Vereuns Symposion Lindabrunn. \nEs führen Peter Fattinger\, Leiter design.build studio der TU Wien gemeinsam mit beteiligten Studierenden sowie Christine Schörkhuber\, Vorsitzende Verein Symposion Lindabrunn. \nDie Teilnahme an der Veranstaltung ist kostenfrei.\nAnmeldung ab sofort unter https://rebrand.ly/2251uvy möglich. \n  \n 
URL:https://symposion-lindabrunn.at/event/orte-architekturnetzwerk-niederoesterreich/
LOCATION:Symposion Lindabrunn\, Steinbruchstraße 25\, Enzesfeld-Lindabrunn\, 2551
CATEGORIES:Alle,Öffentlich
ATTACH;FMTTYPE=image/jpeg:https://symposion-lindabrunn.at/wp-content/uploads/2025/12/10_Haus_img4.jpg
END:VEVENT
BEGIN:VEVENT
DTSTART;TZID=Europe/Vienna:20260425T180000
DTEND;TZID=Europe/Vienna:20260425T210000
DTSTAMP:20260420T120211
CREATED:20260302T111429Z
LAST-MODIFIED:20260302T120911Z
UID:10000335-1777140000-1777150800@symposion-lindabrunn.at
SUMMARY:Salon im Grünen: Experimentelles Soundlabor
DESCRIPTION:Der Ausflug des experimentellen Soundlabors von Chris Janka an der Abteilung für Experimentelle Gestaltung der Kunstuni Linz auf das Symposion Lindabrunn fokussiert auf soundspielerische Experimente\, Installationen und Improvisationen. Der Lehrplan für experimentelle Kunst ist ein künstlerisches Labor für kreative Freiheit. Diese Freiheit ist oft schwer zu finden\, doch der Exkursionsrahmen zum VSL bietet sie und ermöglicht ein Umsetzen und Erarbeiten neuer Konzepte.
URL:https://symposion-lindabrunn.at/event/salon-im-gruenen-experiementelles-soundlabor/
LOCATION:Symposion Lindabrunn\, Steinbruchstraße 25\, Enzesfeld-Lindabrunn\, 2551
CATEGORIES:Alle,Atelier,Öffentlich
ATTACH;FMTTYPE=image/jpeg:https://symposion-lindabrunn.at/wp-content/uploads/2025/04/limits-of-resilience_0963_fullsize_©markusgradwohl-1.jpg
END:VEVENT
BEGIN:VEVENT
DTSTART;TZID=Europe/Vienna:20260503T160000
DTEND;TZID=Europe/Vienna:20260503T180000
DTSTAMP:20260420T120211
CREATED:20260302T115721Z
LAST-MODIFIED:20260308T103456Z
UID:10000341-1777824000-1777831200@symposion-lindabrunn.at
SUMMARY:Salon im Grünen: Christian Kvasnicka\, Ölmalerei auf Leinwand und Holz
DESCRIPTION:Christian Kvasnicka gibt in diesem Vortrag Einblicke in künstlerische Techniken der Ölmalerei und Materialkunde und zeigt anhand von angreifbaren Beispielen die Unterschied zwischen dem Arbeiten auf Leinwand und Holz.
URL:https://symposion-lindabrunn.at/event/salon-im-gruenen-oelmalerei-auf-leinwand-und-holz/
LOCATION:Symposion Lindabrunn\, Steinbruchstraße 25\, Enzesfeld-Lindabrunn\, 2551
CATEGORIES:Alle,Atelier,Öffentlich
ATTACH;FMTTYPE=image/jpeg:https://symposion-lindabrunn.at/wp-content/uploads/2026/03/89148119-9523-4de9-acb7-231be0d2c64a.jpeg
END:VEVENT
BEGIN:VEVENT
DTSTART;TZID=Europe/Vienna:20260510T150000
DTEND;TZID=Europe/Vienna:20260510T180000
DTSTAMP:20260420T120211
CREATED:20251124T120558Z
LAST-MODIFIED:20260304T135628Z
UID:10000319-1778425200-1778436000@symposion-lindabrunn.at
SUMMARY:Literaturspaziergang
DESCRIPTION:Autorin und Literaturkritikerin Beatrice Simonsen kuratiert wieder den beliebten Literaturspaziergang zwischen Lesung und Performance. Zeitgenössische Schriftsteller:innen nehmen in und mit ihren Texten Bezug auf die Skulpturen vor Ort. Für den Streifzug durchs Gelände  entwickeln verschiedene Autor*innen ortspezifische Texte. Zu hören sind Sanja Abramovic\, Frieda Paris und Benedikt Steiner sowie Musik von Noid. \nmit Unterstützung der GAV (Grazer Autorinnen Autorenversammlung) und dem Land Burgenland
URL:https://symposion-lindabrunn.at/event/literaturspaziergang-4/
CATEGORIES:Alle,Öffentlich
ATTACH;FMTTYPE=image/jpeg:https://symposion-lindabrunn.at/wp-content/uploads/2026/03/Literaturspaziergang.jpg
END:VEVENT
BEGIN:VEVENT
DTSTART;VALUE=DATE:20260516
DTEND;VALUE=DATE:20260702
DTSTAMP:20260420T120211
CREATED:20260310T095033Z
LAST-MODIFIED:20260310T095033Z
UID:10000356-1778889600-1782950399@symposion-lindabrunn.at
SUMMARY:Im CUBO : Camille Dedenise
DESCRIPTION:
URL:https://symposion-lindabrunn.at/event/im-cubo-camille-dedenise/
LOCATION:Symposion Lindabrunn\, Steinbruchstraße 25\, Enzesfeld-Lindabrunn\, 2551
CATEGORIES:Alle,Öffentlich
ATTACH;FMTTYPE=image/jpeg:https://symposion-lindabrunn.at/wp-content/uploads/2026/03/Cubo-web.jpg
END:VEVENT
BEGIN:VEVENT
DTSTART;VALUE=DATE:20260601
DTEND;VALUE=DATE:20260609
DTSTAMP:20260420T120211
CREATED:20260302T191917Z
LAST-MODIFIED:20260302T191917Z
UID:10000354-1780272000-1780963199@symposion-lindabrunn.at
SUMMARY:Produktionsaufenthalt Yvo Kaufmann & Maria Seisenbacher: get out of the neocortex
DESCRIPTION:
URL:https://symposion-lindabrunn.at/event/produktionsaufenthalt-yvo-kaufmann-maria-seisenbacher-get-out-of-the-neocortex/
LOCATION:Symposion Lindabrunn\, Steinbruchstraße 25\, Enzesfeld-Lindabrunn\, 2551
CATEGORIES:Alle,Atelier
END:VEVENT
BEGIN:VEVENT
DTSTART;TZID=Europe/Vienna:20260607T160000
DTEND;TZID=Europe/Vienna:20260607T180000
DTSTAMP:20260420T120211
CREATED:20260302T113838Z
LAST-MODIFIED:20260302T113838Z
UID:10000339-1780848000-1780855200@symposion-lindabrunn.at
SUMMARY:Salon im Grünen: get out of the neocortex
DESCRIPTION:mit Yvo Kaufmann & Maria Seisenbacher \n„get out of the neocortex“ ist eine Serie von Experimenten zwischen Lyrik\, Bewegung und Gesang. Getragen vom Rahmen einer Kundalini Kriya arbeiten Kaufmann und Seisenbacher an ihrem partizipativen Performanceformat und laden zur Teilnahme ein.
URL:https://symposion-lindabrunn.at/event/salon-im-gruenen-get-out-of-the-neocortex/
LOCATION:Symposion Lindabrunn\, Steinbruchstraße 25\, Enzesfeld-Lindabrunn\, 2551
CATEGORIES:Alle,Atelier,Öffentlich
ATTACH;FMTTYPE=image/jpeg:https://symposion-lindabrunn.at/wp-content/uploads/2024/02/Gelaende2.jpg
END:VEVENT
BEGIN:VEVENT
DTSTART;VALUE=DATE:20260626
DTEND;VALUE=DATE:20260629
DTSTAMP:20260420T120211
CREATED:20260302T192039Z
LAST-MODIFIED:20260302T192039Z
UID:10000355-1782432000-1782691199@symposion-lindabrunn.at
SUMMARY:Produktionsaufenthalt Metafunk
DESCRIPTION:
URL:https://symposion-lindabrunn.at/event/produktionsaufenthalt-metafunk-3/
LOCATION:Symposion Lindabrunn\, Steinbruchstraße 25\, Enzesfeld-Lindabrunn\, 2551
CATEGORIES:Alle,Atelier
END:VEVENT
BEGIN:VEVENT
DTSTART;VALUE=DATE:20260629
DTEND;VALUE=DATE:20260714
DTSTAMP:20260420T120211
CREATED:20260302T191652Z
LAST-MODIFIED:20260302T191730Z
UID:10000353-1782691200-1783987199@symposion-lindabrunn.at
SUMMARY:Produktionsaufenthalt Symposion Kunst und Ökologie
DESCRIPTION:
URL:https://symposion-lindabrunn.at/event/produktionsaufenthalt-symposion-kunst-und-oekologie/
LOCATION:Symposion Lindabrunn\, Steinbruchstraße 25\, Enzesfeld-Lindabrunn\, 2551
CATEGORIES:Alle,Atelier
END:VEVENT
BEGIN:VEVENT
DTSTART;TZID=Europe/Vienna:20260711T120000
DTEND;TZID=Europe/Vienna:20260712T230000
DTSTAMP:20260420T120211
CREATED:20260302T121204Z
LAST-MODIFIED:20260318T122309Z
UID:10000344-1783771200-1783897200@symposion-lindabrunn.at
SUMMARY:Symposion Kunst und Ökologie: If the world were your oyster
DESCRIPTION:kuratiert von Mekhala Dave. \n„If the World Were Your Oyster“ ist inspiriert von dem Gedicht „Your Oysters“ der queeren palästinensischen Dichterin Rasha Abdulhadi. In dem Gedicht erhält die bekannte Redewendung „the world is your oyster“ eine neue Bedeutung: Sie bietet eine Möglichkeit\, über die Mikrokosmen der Welt nachzudenken\, in der wir leben und die wir gestalten\, und in der menschliches und nicht-menschliches Leben eng miteinander verflochten sind. Austern sind salzwasserbewohnende Muscheln\, die in Brack- und Meereslebensräumen leben und sich über viele Ebenen hinweg bewegen. Sie sind lebende Organismen innerhalb mariner Ökosysteme\, zirkulieren jedoch auch durch globale\nEsskulturen und Wirtschaftssysteme\, oft bezogen aus Ostasien und dem Pazifik\, wo Massenproduktion\, Aquakultur und Wildfang die Meeresumwelt und die Ketten dernArbeit an den Küsten prägen. Austern produzieren zudem Perlen\, wenn ein kleiner Fremdkörper in ihren Körper eindringt und Schicht für Schicht mit Perlmutt überzogen wird\, wobei im Laufe der Zeit etwas Schmerzhaftes immer leuchtender wird. In dem Gedicht jedoch\n„sind Perlen Zeichen des Problems“\, was auf die Schönheit anspielt\, die aus Reibung entstehen kann\, und uns daran erinnert\, dass wir in einer Zeit leben\, in der die Bedingungen\, die das Leben erhalten\, zunehmend fragil werden. Beim Symposium wird die Auster zu einem konzeptionellen Zugangspunkt für vielfältige Bedeutungen durch Formen der gemeinsamen Gestaltung und des kritischen Denkens. So wie Austern als Reaktion auf ihre Umgebung wachsen\, entwickeln sich auch künstlerische und wissenschaftliche Praktiken \nIm Rahmen von gemeinsamer Produktionszeit und eines öffentlichen Programms kommen Künstler*innen\, Aktivist*innen\, Denker*innen und Wissenschaftler*innen zusammen\, um queere und feministische Blickwinkel auf indigene Ausdrucksformen\, soziomaterielle Kontexte\, digitale Werkzeuge und dekoloniale Perspektiven anzuwenden. So entsteht Raum\, um sich Zukunftsvisionen auf andere Weise vorzustellen.\nEine Einladung\, um auf die Bedingungen des heutigen Zusammenlebens zu reagieren.
URL:https://symposion-lindabrunn.at/event/symposion-kunst-und-oekologie-if-the-world-would-be-your-oyster/2026-07-11/
LOCATION:Symposion Lindabrunn\, Steinbruchstraße 25\, Enzesfeld-Lindabrunn\, 2551
CATEGORIES:Alle,Öffentlich
ATTACH;FMTTYPE=image/jpeg:https://symposion-lindabrunn.at/wp-content/uploads/2026/03/IMG_4373.jpg
END:VEVENT
BEGIN:VEVENT
DTSTART;TZID=Europe/Vienna:20260712T120000
DTEND;TZID=Europe/Vienna:20260712T220000
DTSTAMP:20260420T120211
CREATED:20260302T121204Z
LAST-MODIFIED:20260318T122309Z
UID:10000345-1783857600-1783893600@symposion-lindabrunn.at
SUMMARY:Symposion Kunst und Ökologie: If the world were your oyster
DESCRIPTION:kuratiert von Mekhala Dave. \n„If the World Were Your Oyster“ ist inspiriert von dem Gedicht „Your Oysters“ der queeren palästinensischen Dichterin Rasha Abdulhadi. In dem Gedicht erhält die bekannte Redewendung „the world is your oyster“ eine neue Bedeutung: Sie bietet eine Möglichkeit\, über die Mikrokosmen der Welt nachzudenken\, in der wir leben und die wir gestalten\, und in der menschliches und nicht-menschliches Leben eng miteinander verflochten sind. Austern sind salzwasserbewohnende Muscheln\, die in Brack- und Meereslebensräumen leben und sich über viele Ebenen hinweg bewegen. Sie sind lebende Organismen innerhalb mariner Ökosysteme\, zirkulieren jedoch auch durch globale\nEsskulturen und Wirtschaftssysteme\, oft bezogen aus Ostasien und dem Pazifik\, wo Massenproduktion\, Aquakultur und Wildfang die Meeresumwelt und die Ketten dernArbeit an den Küsten prägen. Austern produzieren zudem Perlen\, wenn ein kleiner Fremdkörper in ihren Körper eindringt und Schicht für Schicht mit Perlmutt überzogen wird\, wobei im Laufe der Zeit etwas Schmerzhaftes immer leuchtender wird. In dem Gedicht jedoch\n„sind Perlen Zeichen des Problems“\, was auf die Schönheit anspielt\, die aus Reibung entstehen kann\, und uns daran erinnert\, dass wir in einer Zeit leben\, in der die Bedingungen\, die das Leben erhalten\, zunehmend fragil werden. Beim Symposium wird die Auster zu einem konzeptionellen Zugangspunkt für vielfältige Bedeutungen durch Formen der gemeinsamen Gestaltung und des kritischen Denkens. So wie Austern als Reaktion auf ihre Umgebung wachsen\, entwickeln sich auch künstlerische und wissenschaftliche Praktiken \nIm Rahmen von gemeinsamer Produktionszeit und eines öffentlichen Programms kommen Künstler*innen\, Aktivist*innen\, Denker*innen und Wissenschaftler*innen zusammen\, um queere und feministische Blickwinkel auf indigene Ausdrucksformen\, soziomaterielle Kontexte\, digitale Werkzeuge und dekoloniale Perspektiven anzuwenden. So entsteht Raum\, um sich Zukunftsvisionen auf andere Weise vorzustellen.\nEine Einladung\, um auf die Bedingungen des heutigen Zusammenlebens zu reagieren.
URL:https://symposion-lindabrunn.at/event/symposion-kunst-und-oekologie-if-the-world-would-be-your-oyster/2026-07-12/
LOCATION:Symposion Lindabrunn\, Steinbruchstraße 25\, Enzesfeld-Lindabrunn\, 2551
CATEGORIES:Alle,Öffentlich
ATTACH;FMTTYPE=image/jpeg:https://symposion-lindabrunn.at/wp-content/uploads/2026/03/IMG_4373.jpg
END:VEVENT
BEGIN:VEVENT
DTSTART;TZID=Europe/Vienna:20260717T200000
DTEND;TZID=Europe/Vienna:20260717T230000
DTSTAMP:20260420T120211
CREATED:20260302T184610Z
LAST-MODIFIED:20260302T184907Z
UID:10000349-1784318400-1784329200@symposion-lindabrunn.at
SUMMARY:Nature Challenge
DESCRIPTION:Mit der Marktgemeinde Enzesfeld-Lindabrunn\, dem Landschaftspflegeverein Thermenlinie-Wienerwald-Wiener Becken und der LEADER-Region Triestingtal\, Laien\, Expert:innen und Naturvermittler:innen erforschen wir gemeinsam mit Hilfe der internationalen Naturforschungs-App iNaturalist die biologische Vielfalt am Symposion in Lindabrunn – einem der größten zusammenhängendem Trockenrasengebiet an der Thermenlinie. \nDie Nature Challenge ist ein vielfältiges Fest der Artenvielfalt für junge und alte Natur-forscher:innen und solche\, die es gerne ausprobieren möchten. Es gibt Naturführungen\, Infostände\, Wettbewerbe und Aktivitäten für Kinder und Jugendliche. \nAus einer künstlerischen Perspektive beteiligt sich der Verein Symposion Lindabrunn mit performativen und installativen Beiträgen. Bei der erfolgreichen ersten Nature Challenge im Juni 2024 wurden in mehr als 4.800 Beobachtungen von knapp 1.300 Arten am Gelände dokumentiert. 2026 geht die Lindabrunner Nature Challenge in die dritte Runde. \nProgrammdetails beim LPV  \nFreitag: 20:00 bis 23 Uhr – Naturexkursion „Tiere der Nacht“ – gemeinsam mit Expert:innen und Naturvermittler:innen entdeckst Du die Lebewesen der Nacht wie Nachtfalter\, Fledermäuse und Eulen und erfährst Wissenswertes zum wertvollen Naturgebiet am Symposion. Im Rahmen der Exkursion schauen wir auch den Expert:innen beim Erforschen der nachtaktiven Tiere über die Schulter. \nSamstag: 10:00 bis 18:00 Uhr (für Expert:innen ab 9:00 Uhr) \n\nBei Naturexkursionen mit Expert:innen und Naturpädagog:innen erfährst Du Spannendes zu Lebensräumen und Arten am Symposion. Exkursionen für Erwachsene: 14:00 Uhr\, 15:00 Uhr\, 16:00 Uhr\, Exkursionen für Kinder: 14:30 Uhr\, 15:30 Uhr\, Dauer jeweils ca. 1 Stunde\, Treffpunkt beim LPV-Infostand bei der Arena (diese liegt neben dem Vereinshaus des Verein Symposion Lindabrunn)\nInfostände bei der Arena bieten Hintergrundwissen zu interessanten Natur- und Umweltprojekten\, Naturhecken\, zur Forschungs-App iNaturalist\, zu spannenden Fossilienfunden in Lindabrunn sowie zur Kunst des Verein Symposion Lindabrunn.\nBeim Kinderprogramm wird gebastelt und geschminkt. (bei der Arena)\nMit der frei zugänglichen und kostenlosenForschungs-App iNaturalist kannst Du Dich ganz einfach aktiv an der Artensuche beteiligen und wertvolle Funddaten sammeln. Expert:innen helfen Dir beim Ausprobieren. Vorwissen ist nicht notwendig! Unsere Expert:innen und Naturvermittler:innen begleiten Dich durch die Entdeckungsreise und erklären dir Schritt für Schritt den Umgang mit der App iNaturalist (vom Installieren bis hin zur Artensuche). Wenn Du iNaturalist schon installiert hast\, kannst Du natürlich rascher starten. Alle Infos zur App findest Du hier. Wir helfen Dir auch gerne beim Installieren. (beim LPV-Infostand bei der Arena)\nMit einer App des Verein Symposion Lindabrunn kannst Du die Kunstwerke direkt am Gelände entdecken.\nZwischendurch kannst Du Dich vor Ort mit Essen und Getränken stärken. (bei der Arena neben dem Vereinsgebäude des Verein Symposion Lindabrunn)\nGewinnspiel: Unter den Kindern\, die Arten über iNaturalist melden und sich bis 16:30 Uhr vor Ort registrieren (beim LPV-Infostand bei der Arena)\, werden schöne Preise verlost. (Verlosung um 17:00 Uhr ausschließlich an Anwesende in der Arena)\n\nHinweis für Biolog:innen: detaillierte Infos erhältst Du über die Infoseite für Expert:innen: Willst Du als Expert:in teilnehmen\, melde Dich bitte möglichst bald per Email  an den Landschaftspflegeverein. \n  \n 
URL:https://symposion-lindabrunn.at/event/nature-challenge-2/2026-07-17/
LOCATION:Symposion Lindabrunn\, Steinbruchstraße 25\, Enzesfeld-Lindabrunn\, 2551
CATEGORIES:Alle,Öffentlich
ATTACH;FMTTYPE=image/jpeg:https://symposion-lindabrunn.at/wp-content/uploads/2025/12/09_NatureChallengePXL_20250906_114222300.jpg
END:VEVENT
BEGIN:VEVENT
DTSTART;TZID=Europe/Vienna:20260718T100000
DTEND;TZID=Europe/Vienna:20260718T180000
DTSTAMP:20260420T120211
CREATED:20260302T184610Z
LAST-MODIFIED:20260302T184907Z
UID:10000350-1784368800-1784397600@symposion-lindabrunn.at
SUMMARY:Nature Challenge
DESCRIPTION:Mit der Marktgemeinde Enzesfeld-Lindabrunn\, dem Landschaftspflegeverein Thermenlinie-Wienerwald-Wiener Becken und der LEADER-Region Triestingtal\, Laien\, Expert:innen und Naturvermittler:innen erforschen wir gemeinsam mit Hilfe der internationalen Naturforschungs-App iNaturalist die biologische Vielfalt am Symposion in Lindabrunn – einem der größten zusammenhängendem Trockenrasengebiet an der Thermenlinie. \nDie Nature Challenge ist ein vielfältiges Fest der Artenvielfalt für junge und alte Natur-forscher:innen und solche\, die es gerne ausprobieren möchten. Es gibt Naturführungen\, Infostände\, Wettbewerbe und Aktivitäten für Kinder und Jugendliche. \nAus einer künstlerischen Perspektive beteiligt sich der Verein Symposion Lindabrunn mit performativen und installativen Beiträgen. Bei der erfolgreichen ersten Nature Challenge im Juni 2024 wurden in mehr als 4.800 Beobachtungen von knapp 1.300 Arten am Gelände dokumentiert. 2026 geht die Lindabrunner Nature Challenge in die dritte Runde. \nProgrammdetails beim LPV  \nFreitag: 20:00 bis 23 Uhr – Naturexkursion „Tiere der Nacht“ – gemeinsam mit Expert:innen und Naturvermittler:innen entdeckst Du die Lebewesen der Nacht wie Nachtfalter\, Fledermäuse und Eulen und erfährst Wissenswertes zum wertvollen Naturgebiet am Symposion. Im Rahmen der Exkursion schauen wir auch den Expert:innen beim Erforschen der nachtaktiven Tiere über die Schulter. \nSamstag: 10:00 bis 18:00 Uhr (für Expert:innen ab 9:00 Uhr) \n\nBei Naturexkursionen mit Expert:innen und Naturpädagog:innen erfährst Du Spannendes zu Lebensräumen und Arten am Symposion. Exkursionen für Erwachsene: 14:00 Uhr\, 15:00 Uhr\, 16:00 Uhr\, Exkursionen für Kinder: 14:30 Uhr\, 15:30 Uhr\, Dauer jeweils ca. 1 Stunde\, Treffpunkt beim LPV-Infostand bei der Arena (diese liegt neben dem Vereinshaus des Verein Symposion Lindabrunn)\nInfostände bei der Arena bieten Hintergrundwissen zu interessanten Natur- und Umweltprojekten\, Naturhecken\, zur Forschungs-App iNaturalist\, zu spannenden Fossilienfunden in Lindabrunn sowie zur Kunst des Verein Symposion Lindabrunn.\nBeim Kinderprogramm wird gebastelt und geschminkt. (bei der Arena)\nMit der frei zugänglichen und kostenlosenForschungs-App iNaturalist kannst Du Dich ganz einfach aktiv an der Artensuche beteiligen und wertvolle Funddaten sammeln. Expert:innen helfen Dir beim Ausprobieren. Vorwissen ist nicht notwendig! Unsere Expert:innen und Naturvermittler:innen begleiten Dich durch die Entdeckungsreise und erklären dir Schritt für Schritt den Umgang mit der App iNaturalist (vom Installieren bis hin zur Artensuche). Wenn Du iNaturalist schon installiert hast\, kannst Du natürlich rascher starten. Alle Infos zur App findest Du hier. Wir helfen Dir auch gerne beim Installieren. (beim LPV-Infostand bei der Arena)\nMit einer App des Verein Symposion Lindabrunn kannst Du die Kunstwerke direkt am Gelände entdecken.\nZwischendurch kannst Du Dich vor Ort mit Essen und Getränken stärken. (bei der Arena neben dem Vereinsgebäude des Verein Symposion Lindabrunn)\nGewinnspiel: Unter den Kindern\, die Arten über iNaturalist melden und sich bis 16:30 Uhr vor Ort registrieren (beim LPV-Infostand bei der Arena)\, werden schöne Preise verlost. (Verlosung um 17:00 Uhr ausschließlich an Anwesende in der Arena)\n\nHinweis für Biolog:innen: detaillierte Infos erhältst Du über die Infoseite für Expert:innen: Willst Du als Expert:in teilnehmen\, melde Dich bitte möglichst bald per Email  an den Landschaftspflegeverein. \n  \n 
URL:https://symposion-lindabrunn.at/event/nature-challenge-2/2026-07-18/
LOCATION:Symposion Lindabrunn\, Steinbruchstraße 25\, Enzesfeld-Lindabrunn\, 2551
CATEGORIES:Alle,Öffentlich
ATTACH;FMTTYPE=image/jpeg:https://symposion-lindabrunn.at/wp-content/uploads/2025/12/09_NatureChallengePXL_20250906_114222300.jpg
END:VEVENT
END:VCALENDAR