	

BEGIN:VCALENDAR
VERSION:2.0
PRODID:-//Symposion Lindabrunn - ECPv6.15.20//NONSGML v1.0//EN
CALSCALE:GREGORIAN
METHOD:PUBLISH
X-WR-CALNAME:Symposion Lindabrunn
X-ORIGINAL-URL:https://symposion-lindabrunn.at
X-WR-CALDESC:Veranstaltungen für Symposion Lindabrunn
REFRESH-INTERVAL;VALUE=DURATION:PT1H
X-Robots-Tag:noindex
X-PUBLISHED-TTL:PT1H
BEGIN:VTIMEZONE
TZID:Europe/Vienna
BEGIN:DAYLIGHT
TZOFFSETFROM:+0100
TZOFFSETTO:+0200
TZNAME:CEST
DTSTART:20240331T010000
END:DAYLIGHT
BEGIN:STANDARD
TZOFFSETFROM:+0200
TZOFFSETTO:+0100
TZNAME:CET
DTSTART:20241027T010000
END:STANDARD
BEGIN:DAYLIGHT
TZOFFSETFROM:+0100
TZOFFSETTO:+0200
TZNAME:CEST
DTSTART:20250330T010000
END:DAYLIGHT
BEGIN:STANDARD
TZOFFSETFROM:+0200
TZOFFSETTO:+0100
TZNAME:CET
DTSTART:20251026T010000
END:STANDARD
BEGIN:DAYLIGHT
TZOFFSETFROM:+0100
TZOFFSETTO:+0200
TZNAME:CEST
DTSTART:20260329T010000
END:DAYLIGHT
BEGIN:STANDARD
TZOFFSETFROM:+0200
TZOFFSETTO:+0100
TZNAME:CET
DTSTART:20261025T010000
END:STANDARD
END:VTIMEZONE
BEGIN:VEVENT
DTSTART;VALUE=DATE:20250823
DTEND;VALUE=DATE:20250924
DTSTAMP:20260420T150720
CREATED:20250821T124545Z
LAST-MODIFIED:20250823T110309Z
UID:10000308-1755907200-1758671999@symposion-lindabrunn.at
SUMMARY:Im CUBO : Karin Frank
DESCRIPTION:Die beiden Holzskulpturen\, die die physische Arbeit am Stein zum Thema haben\, entstanden beim Symposion „50 Jahre Symposion Lindabrunn“ im Jahr 2019 in dem Bereich\, wo nun der Cubo steht\,  und werden nun erstmals seit längerer Zeit wieder öffentlich ausgestellt.\nDie Künstlerin Karin Frank arbeitet skulptural fast ausschließlich in Holz und bemalt ihre Arbeiten. Sie sind meist figürlich\, realistisch\, aber nie hyperrealistisch ausgeführt. Frank ist bekannt dafür\, Bewegungen in statischen Skulpturen abbilden zu können. Die an Spielzeug gemahnende Anmutung der skulpturalen Arbeiten steht nur scheinbar im Widerspruch zu den ungeschönten Inhalten. Zahlreiche der über 200 so entstandenen Plastiken in allen Größen finden sich in privaten und öffentlichen Sammlungen\, vorwiegend im deutschsprachigen Raum. Sie erhielt 2005 das Staatsstipendium für bildende Kunst. \nhttps://www.karinfrank.at/ \nKarin Frank\nFuturologisches Symposium\nBildhauer \n 
URL:https://symposion-lindabrunn.at/event/im-cubo-karin-frank/
LOCATION:Symposion Lindabrunn\, Steinbruchstraße 25\, Enzesfeld-Lindabrunn\, 2551
CATEGORIES:Alle,Öffentlich
END:VEVENT
BEGIN:VEVENT
DTSTART;TZID=Europe/Vienna:20250920T150000
DTEND;TZID=Europe/Vienna:20250921T190000
DTSTAMP:20260420T150721
CREATED:20250303T133210Z
LAST-MODIFIED:20250924T115403Z
UID:10000255-1758380400-1758481200@symposion-lindabrunn.at
SUMMARY:Symposion 20 Jahre Buried Alive
DESCRIPTION:20 Jahre „Buried Alive“ – Das legendäre Performance-Projekt von monochrom feiert Jubiläum\n\n\n\nVor zwanzig Jahren schaufelte sich das Künstlerkollektiv monochrom buchstäblich ins kollektive Gedächtnis: Mit der Performance „Buried Alive“ lud es seit 2005 über 800 Menschen weltweit ein\, sich lebendig begraben zu lassen – als radikales Experiment zwischen Grenzerfahrung\, Ritual und Medienkritik. \n2025 feiert das Projekt sein 20-jähriges Bestehen. Anlass genug\, die spektakuläre\, viel diskutierte Arbeit erneut ins Zentrum der Aufmerksamkeit zu rücken. \n„Buried Alive“ ist mehr als eine Mutprobe. Die Performance greift die Faszination und Angst vor dem Tod ebenso auf wie das Bedürfnis nach Reinszenierung historischer Bestattungsrituale. In einer speziell konstruierten Sicherheitssarg-Konstruktion wird das Publikum – freiwillig und einzeln – lebendig begraben. Was wie makabrer Nervenkitzel wirkt\, entpuppt sich als künstlerische Untersuchung: Wo endet Unterhaltung\, wo beginnt existenzielles Nachdenken? Wie werden Medienbilder von Gefahr und Extremsport in Kunst transformiert? \nDas Wiener Kollektiv monochrom\, seit den 1990ern international bekannt für seine Mischung aus Medienkunst\, Theorie und Subversion\, macht mit „Buried Alive“ deutlich\, dass Performancekunst nicht nur auf der Bühne stattfindet\, sondern mitten im Körper\, im Kopf und im gesellschaftlichen Diskurs. \n2025 ist es soweit: 20 Jahre „Buried Alive“. Wir feiern den runden Geburtstag dort\, wo das Projekt seit 2013 eine permanente Heimat gefunden hat: am Symposium Lindabrunn\, wo monochrom eine Fixinstallation betreibt – für alle\, die nicht warten wollen\, bis das Leben sie unter die Erde bringt. \nAm 20. und 21. September 2025 lädt das Kollektiv zum „20 Jahre Buried Alive Symposium“: Zwei Tage voller Vorträge\, Musik\, Re-Performances und Diskursbestattungen. Erwartet euch kritische Theorie\, schaurige Nostalgie und die Möglichkeit mal Probe zu liegen. \n„Buried Alive“ war nie nur ein makabrer Gag. Es ist eine Einladung\, über Angst\, Lust\, Medienhysterie und Ritual nachzudenken – während man Erde über sich zusammenschaufeln hört. \nAusstellung Buried Alive feat. Black Ferk Studio\nNeben einer Ausstellung zu Buried Alive wird eine Ausstellung von Matthias Mollner mit aktuellen Fotoarbeiten aus seiner Serie mit Betroffenen mit ME/CFS und komplexen chronischen Erkrankungen gezeigt. Die Fotos\, die auch in dem im Herbst erscheinenden Buch „Fighters in the Crash Zone“ zu finden sein werden\, werden am Symposium Lindabrunn zum ersten Mal öffentlich präsentiert. \nBurning Ferk“ Ritual in Lindabrunn\nIm Rahmen der Feierlichkeiten wird es am So\, 21.09. um 16 Uhr eine rituelle Verbrennung der Botschaften an Judith Schoßböck im „Burning Ferk“ geben\, die bei „Judy in the Sky“ geschrieben oder vorab zugesandt wurden. Alle sind willkommen\, und wir freuen uns\, wenn du bei diesem besonderen Moment dabei bist! Das „Burning Ferk“ wird im Anschluss an das Ritual an einem für Judith Schoßböck besonderen Ort im Freien aufgestellt. \nProgrammablauf am Symposion Lindabrunn\, Steinbruchstraße 25\, 2551 Enzesfeld-Lindabrunn \nSamstag 20. September\n15:00 Uhr Eröffnung Ausstellung Buried Alive feat. Black Ferk Studio\n16:00 – 18:00 Uhr Performance Buried Alive\n19:00 Uhr Konzert wetter\n21:00 Uhr Lesung Roland Gratzer \nSonntag 21. September\n12:00 – 20:00 Uhr Ausstellung Buried Alive feat. Black Ferk Studio\n12:00 – 15:00 Performance Buried Alive\n16:00 Burning Ferk Ritual
URL:https://symposion-lindabrunn.at/event/symposion-20-jahre-buried-alive/
LOCATION:Symposion Lindabrunn\, Steinbruchstraße 25\, Enzesfeld-Lindabrunn\, 2551
CATEGORIES:Alle,Öffentlich
ATTACH;FMTTYPE=image/jpeg:https://symposion-lindabrunn.at/wp-content/uploads/2025/03/buried-alive.jpg
END:VEVENT
END:VCALENDAR