	

BEGIN:VCALENDAR
VERSION:2.0
PRODID:-//Symposion Lindabrunn - ECPv6.15.20//NONSGML v1.0//EN
CALSCALE:GREGORIAN
METHOD:PUBLISH
X-WR-CALNAME:Symposion Lindabrunn
X-ORIGINAL-URL:https://symposion-lindabrunn.at
X-WR-CALDESC:Veranstaltungen für Symposion Lindabrunn
REFRESH-INTERVAL;VALUE=DURATION:PT1H
X-Robots-Tag:noindex
X-PUBLISHED-TTL:PT1H
BEGIN:VTIMEZONE
TZID:Europe/Vienna
BEGIN:DAYLIGHT
TZOFFSETFROM:+0100
TZOFFSETTO:+0200
TZNAME:CEST
DTSTART:20240331T010000
END:DAYLIGHT
BEGIN:STANDARD
TZOFFSETFROM:+0200
TZOFFSETTO:+0100
TZNAME:CET
DTSTART:20241027T010000
END:STANDARD
BEGIN:DAYLIGHT
TZOFFSETFROM:+0100
TZOFFSETTO:+0200
TZNAME:CEST
DTSTART:20250330T010000
END:DAYLIGHT
BEGIN:STANDARD
TZOFFSETFROM:+0200
TZOFFSETTO:+0100
TZNAME:CET
DTSTART:20251026T010000
END:STANDARD
BEGIN:DAYLIGHT
TZOFFSETFROM:+0100
TZOFFSETTO:+0200
TZNAME:CEST
DTSTART:20260329T010000
END:DAYLIGHT
BEGIN:STANDARD
TZOFFSETFROM:+0200
TZOFFSETTO:+0100
TZNAME:CET
DTSTART:20261025T010000
END:STANDARD
END:VTIMEZONE
BEGIN:VEVENT
DTSTART;VALUE=DATE:20250803
DTEND;VALUE=DATE:20250821
DTSTAMP:20260420T132811
CREATED:20250707T203936Z
LAST-MODIFIED:20250725T213640Z
UID:10000306-1754179200-1755734399@symposion-lindabrunn.at
SUMMARY:Im CUBO: Claudia Rohrauer
DESCRIPTION:Analogue Fieldwork \nDie Installation im CUBO zeigt einen Einblick in eine künstlerisch-forschende Auseinandersetzung mit den Potentialen und Möglichkeiten einer nachhaltigen analogen Dunkelkammerpraxis und pflanzenbasierten Entwicklern als Alternative zu herkömmlichen Fotochemikalien. Zentraler Ausgangspunkt ist dabei die Eigenschaft von Pflanzen\, durch die in ihnen enthaltenen Phenole und Polyphenole als Entwicklersubstanz zu agieren und Silbersalze zu metallischem Silber reduzieren zu können. Die Ressourcen\, Materialien und Materialität der Bildproduktion stehen zur Debatte. \nUmwelt und Umgebung in Lindabrunn werden zu Komplizinnen und Koproduzentinnen der fotografischen Bildproduktion\, als Künstlerin übergebe ich dabei die Kontrolle über die Prozesse an Pflanzen\, Witterung\, Licht\, Temperatur und nicht zuletzt auch an den Zufall\, der vorab nicht kalkulierbare chemische Reaktionen zwischen dem lichtempfindlichen Fotomaterial wie Film und Papier und den pflanzlichen Phenolen hervorbringen mag. Abbildendes und Abgebildetes wachsen in der Bildebene zusammen. Prozessdokumentation und Endergebnisse treffen sich auf einer gleichwertigen Ebene. \nArtist: Claudia Rohrauer \nwebsite: http://www.claudiarohrauer.info \n  \n 
URL:https://symposion-lindabrunn.at/event/im-cubo-claudia-rohrauer/
LOCATION:Symposion Lindabrunn\, Steinbruchstraße 25\, Enzesfeld-Lindabrunn\, 2551
CATEGORIES:Alle,Atelier,Öffentlich
ATTACH;FMTTYPE=image/jpeg:https://symposion-lindabrunn.at/wp-content/uploads/2025/04/limits-of-resilience_0137_fullsize_©markusgradwohl-1.jpg
END:VEVENT
BEGIN:VEVENT
DTSTART;VALUE=DATE:20250804
DTEND;VALUE=DATE:20250818
DTSTAMP:20260420T132811
CREATED:20250302T132547Z
LAST-MODIFIED:20260126T142536Z
UID:10000247-1754265600-1755475199@symposion-lindabrunn.at
SUMMARY:Reni Hofmüller - Produktionsaufenthalt
DESCRIPTION:Reni Hofmüller konzentriert sich auf Kunst in technologischen Zusammenhängen und geht den Beziehungen zwischen Kunst\, Technologie und Gesellschaft auf den Grund. Seit langem ist Klang ihr wichtigstes künstlerisches Werkzeug\, jedoch geht sie mit ähnlichem Interesse spazieren oder findet neue Netzwerke und Menschen\, um sich mit ihrerUmgebung zu vertiefen. Sie ist eine der Gründer:innen von esc medien kunst labor Graz\, bei Radio Helsinki tätig\, dem nichtkommerziellen Grazer Community Radio\, ebensowie bei mur.at. Hofmüller ist Mitglied beim Institut für Medienarchäologie und singt seit Dezember 2014 in der feministischen PostPunkBand Lonesome Hot Dudes. Eingebettetin feministische Technologiekollektive engagiert sie sich beim ecletic tech carnival\, im TransHackFeminist Meeting und beschäftigt sich mit dem Konzept feministischer Server. \nWährend ihres Produktionsaufenthaltes am Gelände des Symposions wird sie an einer Erdantenne arbeiten und ausgehend von ihrer Beschäftigung mit dem Material Kupfer und dem Medium Radio Klänge erforschen.
URL:https://symposion-lindabrunn.at/event/reni-hofmueller/
LOCATION:Symposion Lindabrunn\, Steinbruchstraße 25\, Enzesfeld-Lindabrunn\, 2551
CATEGORIES:Alle,Atelier
ATTACH;FMTTYPE=image/jpeg:https://symposion-lindabrunn.at/wp-content/uploads/2025/03/reni.jpg
END:VEVENT
END:VCALENDAR