	

BEGIN:VCALENDAR
VERSION:2.0
PRODID:-//Symposion Lindabrunn - ECPv6.15.20//NONSGML v1.0//EN
CALSCALE:GREGORIAN
METHOD:PUBLISH
X-ORIGINAL-URL:https://symposion-lindabrunn.at
X-WR-CALDESC:Veranstaltungen für Symposion Lindabrunn
REFRESH-INTERVAL;VALUE=DURATION:PT1H
X-Robots-Tag:noindex
X-PUBLISHED-TTL:PT1H
BEGIN:VTIMEZONE
TZID:Europe/Paris
BEGIN:DAYLIGHT
TZOFFSETFROM:+0100
TZOFFSETTO:+0200
TZNAME:CEST
DTSTART:20230326T010000
END:DAYLIGHT
BEGIN:STANDARD
TZOFFSETFROM:+0200
TZOFFSETTO:+0100
TZNAME:CET
DTSTART:20231029T010000
END:STANDARD
BEGIN:DAYLIGHT
TZOFFSETFROM:+0100
TZOFFSETTO:+0200
TZNAME:CEST
DTSTART:20240331T010000
END:DAYLIGHT
BEGIN:STANDARD
TZOFFSETFROM:+0200
TZOFFSETTO:+0100
TZNAME:CET
DTSTART:20241027T010000
END:STANDARD
BEGIN:DAYLIGHT
TZOFFSETFROM:+0100
TZOFFSETTO:+0200
TZNAME:CEST
DTSTART:20250330T010000
END:DAYLIGHT
BEGIN:STANDARD
TZOFFSETFROM:+0200
TZOFFSETTO:+0100
TZNAME:CET
DTSTART:20251026T010000
END:STANDARD
END:VTIMEZONE
BEGIN:VEVENT
DTSTART;TZID=Europe/Paris:20240701T080000
DTEND;TZID=Europe/Paris:20240710T170000
DTSTAMP:20260425T152609
CREATED:20240213T160610Z
LAST-MODIFIED:20250307T192051Z
UID:10000028-1719820800-1720630800@symposion-lindabrunn.at
SUMMARY:Produktionsaufenthalt: Katya Dimova
DESCRIPTION:Das Leben von Wildpflanzen zeigt Parallelen zu unserer Gesellschaft\, beispielsweise wenn Neophyten als ungeliebte Wildpflanzen dargestellt werden oder Frauenkräuter vom Volksglauben diskreditiert. \n\n\n\nIn Textilbücher überliefert die Künstlerin diverse Geschichtenüber die Heilkräfte der Pflanzen. In den 2023 gestickten Büchern NEOPHYTEN III legt sie den Fokus auf Neophyten. Diese Pflanzen sind nach 1492 mit oder ohne menschliches Zutun in ein Gebiet gelangt\, in dem sie zuvor nicht heimisch waren. Viele verfügen über interessante Eigenschaften\, Heilkräfte oder vielfältigen Verwendungsmöglichkeiten\, trotzdem werden solche Arten auf schwarze Listen gesetzt\, bekämpft und geächtet\, da sie große Flächen erobern und somit die „heimische“ Fauna unterdrückenkönnen. „Wenn wir es den Pflanzen mit Migrationsgeschichte nicht gestatten\, ein Teil unserer Kultur zu werden\, werden sie ausgegrenzt bleiben\,“ so die Künstlerin. \n\n\n\nKatya Dimova studiert in ihrer künstlerischen Arbeit diese Pflanzen vor Ort in ihrer Vielschichtigkeit und spielt mit den Bedeutungsebenen. Sind (wir) Menschen auch Neophyten?
URL:https://symposion-lindabrunn.at/event/produktionsaufenthalt-katya-dimova/
CATEGORIES:Atelier
ATTACH;FMTTYPE=image/jpeg:https://symposion-lindabrunn.at/wp-content/uploads/2021/08/LOVE-installation.jpg
END:VEVENT
BEGIN:VEVENT
DTSTART;TZID=Europe/Paris:20240705T080000
DTEND;TZID=Europe/Paris:20240716T170000
DTSTAMP:20260425T152609
CREATED:20240213T162429Z
LAST-MODIFIED:20241031T092117Z
UID:10000029-1720166400-1721149200@symposion-lindabrunn.at
SUMMARY:Produktionsaufenthalt – Claudia Rohrauer
DESCRIPTION:ANALOGUE FIELDWORK Residency \nAnalogue Fieldwork befasst sich mit den Potentialen und Möglichkeiten einer nachhaltigen analogen Dunkelkammerpraxis\, pflanzenbasierten Entwicklern als Alternative zu herkömmlichen Fotochemikalien und somit mit der Zukunft der analogen Fotografie. Zentraler Ausgangspunkt ist dabei die Eigenschaft von Pflanzen\, durch die in ihnen enthaltenen Phenole und Polyphenole als Entwicklersubstanz zu agieren und Silbersalze zu metallischem Silber reduzieren zu können. \nUmwelt und Umgebung in Lindabrunn werden zu Komplizinnen und Koproduzentinnen der fotografischen Bildproduktion\, als Künstlerin übergebe ich dabei die Kontrolle über die Prozesse an Pflanzen\, Erde\, Witterung\, Sonne und nicht zuletzt auch an den Zufall\, der vorab nicht kalkulierbare chemische Reaktionen zwischen dem lichtempfindlichen Fotomaterial wie Film und Papier und den pflanzlichen Phenolen hervorbringen möge. Bereits erprobte Techniken werden mit den in Lindabrunn vorhandenen ökologischen Ressourcen durchgespielt: das Herstellen von pflanzenbasierten Filmentwicklern\, um die fotografische Dokumentation des Arbeitsprozesses zu entwickeln; Phytogramme von vor Ort wachsenden Pflanzen: eine Technik\, bei der die Pflanze durch direkten Kontakt mit dem Filmmaterial ihr eigenes Abbild entwickelt und Anthotypien: vergängliche Lichtbilder\, die durch Farbstoffe aus vor Ort wachsenden Pflanzen entstehen. So wird ein ortspezifisches Portrait des Geländes entstehen – Abbildendes und Abgebildetes wachsen in der Bildebene zusammen. Prozessdokumentation und „Endergebnisse“ treffen sich auf einer gleichwertigen Ebene. \nANALOGUE FIELDWORK Workshop \nDer Workshop bietet einen Einblick in alternative und nachhaltige Prozesse im analogen Fotolabor. Zentral ist die Eigenschaft von Pflanzen\, durch die in ihnen enthaltenen Phenole und Polyphenole als Entwicklersubstanz zu agieren und Silbersalze zu metallischem Silber zu reduzieren. Im Rahmen eines Spaziergangs werden vor Ort wachsende Pflanzen gesammelt\, die als Ausgangsmaterial für die Bildproduktion dienen sollen: im Anschluss an die Erkundung des Gebiets wird ein Filmentwickler aus den Pflanzen gebraut\, um die Fotodokumentation des Spaziergangs zu entwickeln. Weiters wird die Technik des Phytogramms vorgestellt\, bei der Pflanzen durch direkten Kontakt mit dem Filmmaterial ihr eigenes Abbild in Form eines Silberbilds entwickeln. Der gemeinsame Prozess mit performativem Charakter eröffnet ein Feld für den Austausch über das Verhältnis von Umwelt\, Materialressource und Bildproduktion sowie Abbildendem und Abgebildetem. \nBereits bestehende Vorkenntnisse in der Fotografie sind nicht zwingend vorausgesetzt\, können aber von Vorteil sein.
URL:https://symposion-lindabrunn.at/event/analogue-fieldwork-claudia-rohrauer/
CATEGORIES:Alle,Atelier
ATTACH;FMTTYPE=image/jpeg:https://symposion-lindabrunn.at/wp-content/uploads/2024/02/image00003-scaled-e1709633633285.jpg
END:VEVENT
END:VCALENDAR