	

BEGIN:VCALENDAR
VERSION:2.0
PRODID:-//Symposion Lindabrunn - ECPv6.15.20//NONSGML v1.0//EN
CALSCALE:GREGORIAN
METHOD:PUBLISH
X-WR-CALNAME:Symposion Lindabrunn
X-ORIGINAL-URL:https://symposion-lindabrunn.at
X-WR-CALDESC:Veranstaltungen für Symposion Lindabrunn
REFRESH-INTERVAL;VALUE=DURATION:PT1H
X-Robots-Tag:noindex
X-PUBLISHED-TTL:PT1H
BEGIN:VTIMEZONE
TZID:Europe/Paris
BEGIN:DAYLIGHT
TZOFFSETFROM:+0100
TZOFFSETTO:+0200
TZNAME:CEST
DTSTART:20230326T010000
END:DAYLIGHT
BEGIN:STANDARD
TZOFFSETFROM:+0200
TZOFFSETTO:+0100
TZNAME:CET
DTSTART:20231029T010000
END:STANDARD
BEGIN:DAYLIGHT
TZOFFSETFROM:+0100
TZOFFSETTO:+0200
TZNAME:CEST
DTSTART:20240331T010000
END:DAYLIGHT
BEGIN:STANDARD
TZOFFSETFROM:+0200
TZOFFSETTO:+0100
TZNAME:CET
DTSTART:20241027T010000
END:STANDARD
BEGIN:DAYLIGHT
TZOFFSETFROM:+0100
TZOFFSETTO:+0200
TZNAME:CEST
DTSTART:20250330T010000
END:DAYLIGHT
BEGIN:STANDARD
TZOFFSETFROM:+0200
TZOFFSETTO:+0100
TZNAME:CET
DTSTART:20251026T010000
END:STANDARD
END:VTIMEZONE
BEGIN:VEVENT
DTSTART;TZID=Europe/Paris:20240515T080000
DTEND;TZID=Europe/Paris:20240519T170000
DTSTAMP:20260424T233239
CREATED:20240213T135216Z
LAST-MODIFIED:20250112T183407Z
UID:10000021-1715760000-1716138000@symposion-lindabrunn.at
SUMMARY:Produktionsaufenthalt: Kunstuniversität Linz - Chris Janka
DESCRIPTION:Soundlabor der Klasse für Experimentelle Gestaltung. Die Projekttage des experimentellen Soundlabors der Kunstuniversität Linz am Symposion Lindabrunn fokussieren auf soundspielerische Experimente\, Installationen und Improvisationen. Der Lehrplan für experimentelle Kunst ist ein künstlerisches Labor für kreative Freiheit. Eine Freiheit\, die oft schwer zu finden ist. Der Exkursionsrahmen am VSL bietet sie und ermöglicht so ein Umsetzen und Erarbeiten neuer Konzepte.
URL:https://symposion-lindabrunn.at/event/produktionsaufenthalt-kunstuniversitaet-linz-chris-janka/
CATEGORIES:Atelier
ATTACH;FMTTYPE=image/jpeg:https://symposion-lindabrunn.at/wp-content/uploads/2024/02/saLeh_roZati_IMG_7794-e1710160473557.jpg
END:VEVENT
END:VCALENDAR